BEGIN:VCALENDAR
VERSION:2.0
PRODID:-//Liesikappeli - ECPv6.15.20//NONSGML v1.0//EN
CALSCALE:GREGORIAN
METHOD:PUBLISH
X-ORIGINAL-URL:https://liesikappeli.fi
X-WR-CALDESC:Tapahtumat Liesikappeli
REFRESH-INTERVAL;VALUE=DURATION:PT1H
X-Robots-Tag:noindex
X-PUBLISHED-TTL:PT1H
BEGIN:VTIMEZONE
TZID:Europe/Helsinki
BEGIN:DAYLIGHT
TZOFFSETFROM:+0200
TZOFFSETTO:+0300
TZNAME:EEST
DTSTART:20250330T010000
END:DAYLIGHT
BEGIN:STANDARD
TZOFFSETFROM:+0300
TZOFFSETTO:+0200
TZNAME:EET
DTSTART:20251026T010000
END:STANDARD
BEGIN:DAYLIGHT
TZOFFSETFROM:+0200
TZOFFSETTO:+0300
TZNAME:EEST
DTSTART:20260329T010000
END:DAYLIGHT
BEGIN:STANDARD
TZOFFSETFROM:+0300
TZOFFSETTO:+0200
TZNAME:EET
DTSTART:20261025T010000
END:STANDARD
BEGIN:DAYLIGHT
TZOFFSETFROM:+0200
TZOFFSETTO:+0300
TZNAME:EEST
DTSTART:20270328T010000
END:DAYLIGHT
BEGIN:STANDARD
TZOFFSETFROM:+0300
TZOFFSETTO:+0200
TZNAME:EET
DTSTART:20271031T010000
END:STANDARD
END:VTIMEZONE
BEGIN:VEVENT
DTSTART;TZID=Europe/Helsinki:20260129T080000
DTEND;TZID=Europe/Helsinki:20260206T210000
DTSTAMP:20260421T043312
CREATED:20260128T213846Z
LAST-MODIFIED:20260129T071341Z
UID:6417-1769673600-1770411600@liesikappeli.fi
SUMMARY:Rukous- ja paastoviikko 2. - 6.2.2026
DESCRIPTION:Joka arki-ilta (ma – pe) klo 18 rukouskokous
URL:https://liesikappeli.fi/kalenteri/rukous-ja-paastoviikko-2-6-2-2026/
END:VEVENT
BEGIN:VEVENT
DTSTART;TZID=Europe/Helsinki:20260201T110000
DTEND;TZID=Europe/Helsinki:20260201T133000
DTSTAMP:20260421T043312
CREATED:20260128T215224Z
LAST-MODIFIED:20260128T215224Z
UID:6419-1769943600-1769952600@liesikappeli.fi
SUMMARY:Jumalanpalvelus ja ehtoollinen klo 11.00
DESCRIPTION:Puhuu Tony Valerius\, johtaa Ville Tamminen\, musiikki Miika Koivisto & co.\, PYHÄKOULU.
URL:https://liesikappeli.fi/kalenteri/jumalanpalvelus-ja-ehtoollinen-klo-11-00-7/
END:VEVENT
END:VCALENDAR