BEGIN:VCALENDAR
VERSION:2.0
PRODID:-//Liesikappeli - ECPv6.15.20//NONSGML v1.0//EN
CALSCALE:GREGORIAN
METHOD:PUBLISH
X-WR-CALNAME:Liesikappeli
X-ORIGINAL-URL:https://liesikappeli.fi
X-WR-CALDESC:Tapahtumat Liesikappeli
REFRESH-INTERVAL;VALUE=DURATION:PT1H
X-Robots-Tag:noindex
X-PUBLISHED-TTL:PT1H
BEGIN:VTIMEZONE
TZID:Europe/Helsinki
BEGIN:DAYLIGHT
TZOFFSETFROM:+0200
TZOFFSETTO:+0300
TZNAME:EEST
DTSTART:20250330T010000
END:DAYLIGHT
BEGIN:STANDARD
TZOFFSETFROM:+0300
TZOFFSETTO:+0200
TZNAME:EET
DTSTART:20251026T010000
END:STANDARD
BEGIN:DAYLIGHT
TZOFFSETFROM:+0200
TZOFFSETTO:+0300
TZNAME:EEST
DTSTART:20260329T010000
END:DAYLIGHT
BEGIN:STANDARD
TZOFFSETFROM:+0300
TZOFFSETTO:+0200
TZNAME:EET
DTSTART:20261025T010000
END:STANDARD
BEGIN:DAYLIGHT
TZOFFSETFROM:+0200
TZOFFSETTO:+0300
TZNAME:EEST
DTSTART:20270328T010000
END:DAYLIGHT
BEGIN:STANDARD
TZOFFSETFROM:+0300
TZOFFSETTO:+0200
TZNAME:EET
DTSTART:20271031T010000
END:STANDARD
END:VTIMEZONE
BEGIN:VEVENT
DTSTART;TZID=Europe/Helsinki:20260219T120000
DTEND;TZID=Europe/Helsinki:20260219T140000
DTSTAMP:20260421T042220
CREATED:20260205T210636Z
LAST-MODIFIED:20260205T210636Z
UID:6485-1771502400-1771509600@liesikappeli.fi
SUMMARY:Ystäväpiiri
DESCRIPTION:
URL:https://liesikappeli.fi/kalenteri/ystavapiiri-13/
END:VEVENT
BEGIN:VEVENT
DTSTART;TZID=Europe/Helsinki:20260219T180000
DTEND;TZID=Europe/Helsinki:20260219T193000
DTSTAMP:20260421T042220
CREATED:20260130T202802Z
LAST-MODIFIED:20260130T202802Z
UID:6487-1771524000-1771529400@liesikappeli.fi
SUMMARY:Naistenilta klo 18.00
DESCRIPTION:
URL:https://liesikappeli.fi/kalenteri/naistenilta-klo-18-00-7/
END:VEVENT
BEGIN:VEVENT
DTSTART;TZID=Europe/Helsinki:20260219T183000
DTEND;TZID=Europe/Helsinki:20260219T210000
DTSTAMP:20260421T042220
CREATED:20260130T202952Z
LAST-MODIFIED:20260130T202952Z
UID:6489-1771525800-1771534800@liesikappeli.fi
SUMMARY:Miestenilta klo 18.30
DESCRIPTION:
URL:https://liesikappeli.fi/kalenteri/miestenilta-klo-18-30-13/
END:VEVENT
END:VCALENDAR