BEGIN:VCALENDAR
VERSION:2.0
PRODID:-//Liesikappeli - ECPv6.15.20//NONSGML v1.0//EN
CALSCALE:GREGORIAN
METHOD:PUBLISH
X-WR-CALNAME:Liesikappeli
X-ORIGINAL-URL:https://liesikappeli.fi
X-WR-CALDESC:Tapahtumat Liesikappeli
REFRESH-INTERVAL;VALUE=DURATION:PT1H
X-Robots-Tag:noindex
X-PUBLISHED-TTL:PT1H
BEGIN:VTIMEZONE
TZID:Europe/Helsinki
BEGIN:DAYLIGHT
TZOFFSETFROM:+0200
TZOFFSETTO:+0300
TZNAME:EEST
DTSTART:20250330T010000
END:DAYLIGHT
BEGIN:STANDARD
TZOFFSETFROM:+0300
TZOFFSETTO:+0200
TZNAME:EET
DTSTART:20251026T010000
END:STANDARD
BEGIN:DAYLIGHT
TZOFFSETFROM:+0200
TZOFFSETTO:+0300
TZNAME:EEST
DTSTART:20260329T010000
END:DAYLIGHT
BEGIN:STANDARD
TZOFFSETFROM:+0300
TZOFFSETTO:+0200
TZNAME:EET
DTSTART:20261025T010000
END:STANDARD
BEGIN:DAYLIGHT
TZOFFSETFROM:+0200
TZOFFSETTO:+0300
TZNAME:EEST
DTSTART:20270328T010000
END:DAYLIGHT
BEGIN:STANDARD
TZOFFSETFROM:+0300
TZOFFSETTO:+0200
TZNAME:EET
DTSTART:20271031T010000
END:STANDARD
END:VTIMEZONE
BEGIN:VEVENT
DTSTART;TZID=Europe/Helsinki:20260222T110000
DTEND;TZID=Europe/Helsinki:20260222T130000
DTSTAMP:20260421T042208
CREATED:20260130T203943Z
LAST-MODIFIED:20260205T210409Z
UID:6493-1771758000-1771765200@liesikappeli.fi
SUMMARY:Lähetysjumalanpalvelus klo 11.00
DESCRIPTION:Puhuu lähetyspastori Petri Nurminen Keravan helluntaiseurakunnasta\, johtaa Ville Tamminen\, musiikki Olga Olkhovich\, PYHÄKOULU.
URL:https://liesikappeli.fi/kalenteri/lahetysjumalanpalvelus-klo-11-00/
END:VEVENT
BEGIN:VEVENT
DTSTART;TZID=Europe/Helsinki:20260222T140000
DTEND;TZID=Europe/Helsinki:20260222T160000
DTSTAMP:20260421T042208
CREATED:20260222T060601Z
LAST-MODIFIED:20260222T060601Z
UID:6519-1771768800-1771776000@liesikappeli.fi
SUMMARY:Kinyarwandan- ja swahilinkielinen jumalanpalvelus klo 14
DESCRIPTION:Esther Kahindo. Tarvittaessa tulkkaus suomeksi.
URL:https://liesikappeli.fi/kalenteri/kinyarwandan-ja-swahilinkielinen-jumalanpalvelus-klo-14/
END:VEVENT
BEGIN:VEVENT
DTSTART;TZID=Europe/Helsinki:20260222T170000
DTEND;TZID=Europe/Helsinki:20260222T190000
DTSTAMP:20260421T042208
CREATED:20260222T060823Z
LAST-MODIFIED:20260222T060823Z
UID:6521-1771779600-1771786800@liesikappeli.fi
SUMMARY:Lingalan-\, ranskan- ja swahilinkielinen jumalanpalvelus klo 17
DESCRIPTION:Pastori Delphin Mulamba. Tarvittaessa tulkkaus suomeksi.
URL:https://liesikappeli.fi/kalenteri/lingalan-ranskan-ja-swahilinkielinen-jumalanpalvelus-klo-17/
END:VEVENT
END:VCALENDAR