BEGIN:VCALENDAR
VERSION:2.0
PRODID:-//Liesikappeli - ECPv6.15.20//NONSGML v1.0//EN
CALSCALE:GREGORIAN
METHOD:PUBLISH
X-ORIGINAL-URL:https://liesikappeli.fi
X-WR-CALDESC:Tapahtumat Liesikappeli
REFRESH-INTERVAL;VALUE=DURATION:PT1H
X-Robots-Tag:noindex
X-PUBLISHED-TTL:PT1H
BEGIN:VTIMEZONE
TZID:Europe/Helsinki
BEGIN:DAYLIGHT
TZOFFSETFROM:+0200
TZOFFSETTO:+0300
TZNAME:EEST
DTSTART:20250330T010000
END:DAYLIGHT
BEGIN:STANDARD
TZOFFSETFROM:+0300
TZOFFSETTO:+0200
TZNAME:EET
DTSTART:20251026T010000
END:STANDARD
BEGIN:DAYLIGHT
TZOFFSETFROM:+0200
TZOFFSETTO:+0300
TZNAME:EEST
DTSTART:20260329T010000
END:DAYLIGHT
BEGIN:STANDARD
TZOFFSETFROM:+0300
TZOFFSETTO:+0200
TZNAME:EET
DTSTART:20261025T010000
END:STANDARD
BEGIN:DAYLIGHT
TZOFFSETFROM:+0200
TZOFFSETTO:+0300
TZNAME:EEST
DTSTART:20270328T010000
END:DAYLIGHT
BEGIN:STANDARD
TZOFFSETFROM:+0300
TZOFFSETTO:+0200
TZNAME:EET
DTSTART:20271031T010000
END:STANDARD
END:VTIMEZONE
BEGIN:VEVENT
DTSTART;TZID=Europe/Helsinki:20260225T143000
DTEND;TZID=Europe/Helsinki:20260225T153000
DTSTAMP:20260420T230903
CREATED:20260130T205742Z
LAST-MODIFIED:20260130T205742Z
UID:6501-1772029800-1772033400@liesikappeli.fi
SUMMARY:Ruokajako klo 14.30 - 15.30
DESCRIPTION:Heti Ruokajaon jälkeen lyhyt hengellinen hetki\, jossa voit keskustella ja saada rukousapua.\nwww.ruoka-apu.fi -sivuilta löytyvät lähimmät ruokajakopaikat ja yhteisruokailut.
URL:https://liesikappeli.fi/kalenteri/ruokajako-klo-14-30-15-30-37/
END:VEVENT
END:VCALENDAR