BEGIN:VCALENDAR
VERSION:2.0
PRODID:-//Liesikappeli - ECPv6.15.20//NONSGML v1.0//EN
CALSCALE:GREGORIAN
METHOD:PUBLISH
X-WR-CALNAME:Liesikappeli
X-ORIGINAL-URL:https://liesikappeli.fi
X-WR-CALDESC:Tapahtumat Liesikappeli
REFRESH-INTERVAL;VALUE=DURATION:PT1H
X-Robots-Tag:noindex
X-PUBLISHED-TTL:PT1H
BEGIN:VTIMEZONE
TZID:Europe/Helsinki
BEGIN:DAYLIGHT
TZOFFSETFROM:+0200
TZOFFSETTO:+0300
TZNAME:EEST
DTSTART:20250330T010000
END:DAYLIGHT
BEGIN:STANDARD
TZOFFSETFROM:+0300
TZOFFSETTO:+0200
TZNAME:EET
DTSTART:20251026T010000
END:STANDARD
BEGIN:DAYLIGHT
TZOFFSETFROM:+0200
TZOFFSETTO:+0300
TZNAME:EEST
DTSTART:20260329T010000
END:DAYLIGHT
BEGIN:STANDARD
TZOFFSETFROM:+0300
TZOFFSETTO:+0200
TZNAME:EET
DTSTART:20261025T010000
END:STANDARD
BEGIN:DAYLIGHT
TZOFFSETFROM:+0200
TZOFFSETTO:+0300
TZNAME:EEST
DTSTART:20270328T010000
END:DAYLIGHT
BEGIN:STANDARD
TZOFFSETFROM:+0300
TZOFFSETTO:+0200
TZNAME:EET
DTSTART:20271031T010000
END:STANDARD
END:VTIMEZONE
BEGIN:VEVENT
DTSTART;TZID=Europe/Helsinki:20260317T113000
DTEND;TZID=Europe/Helsinki:20260317T130000
DTSTAMP:20260420T225021
CREATED:20260224T132934Z
LAST-MODIFIED:20260224T132934Z
UID:6604-1773747000-1773752400@liesikappeli.fi
SUMMARY:Päivärukous klo 11.30
DESCRIPTION:Aloitamme rukoushetken lukemalla yhdessä Raamattua.
URL:https://liesikappeli.fi/kalenteri/paivarukous-klo-11-30-14/
CATEGORIES:Viikko3
END:VEVENT
BEGIN:VEVENT
DTSTART;TZID=Europe/Helsinki:20260317T180000
DTEND;TZID=Europe/Helsinki:20260317T193000
DTSTAMP:20260420T225021
CREATED:20260224T133211Z
LAST-MODIFIED:20260224T133211Z
UID:6606-1773770400-1773775800@liesikappeli.fi
SUMMARY:Rukouskokous klo 18.00
DESCRIPTION:Mukana Marja Turunen \n 
URL:https://liesikappeli.fi/kalenteri/rukouskokous-klo-18-00-21/
CATEGORIES:Viikko3
END:VEVENT
END:VCALENDAR