BEGIN:VCALENDAR
VERSION:2.0
PRODID:-//Liesikappeli - ECPv6.15.20//NONSGML v1.0//EN
CALSCALE:GREGORIAN
METHOD:PUBLISH
X-WR-CALNAME:Liesikappeli
X-ORIGINAL-URL:https://liesikappeli.fi
X-WR-CALDESC:Tapahtumat Liesikappeli
REFRESH-INTERVAL;VALUE=DURATION:PT1H
X-Robots-Tag:noindex
X-PUBLISHED-TTL:PT1H
BEGIN:VTIMEZONE
TZID:Europe/Helsinki
BEGIN:DAYLIGHT
TZOFFSETFROM:+0200
TZOFFSETTO:+0300
TZNAME:EEST
DTSTART:20250330T010000
END:DAYLIGHT
BEGIN:STANDARD
TZOFFSETFROM:+0300
TZOFFSETTO:+0200
TZNAME:EET
DTSTART:20251026T010000
END:STANDARD
BEGIN:DAYLIGHT
TZOFFSETFROM:+0200
TZOFFSETTO:+0300
TZNAME:EEST
DTSTART:20260329T010000
END:DAYLIGHT
BEGIN:STANDARD
TZOFFSETFROM:+0300
TZOFFSETTO:+0200
TZNAME:EET
DTSTART:20261025T010000
END:STANDARD
BEGIN:DAYLIGHT
TZOFFSETFROM:+0200
TZOFFSETTO:+0300
TZNAME:EEST
DTSTART:20270328T010000
END:DAYLIGHT
BEGIN:STANDARD
TZOFFSETFROM:+0300
TZOFFSETTO:+0200
TZNAME:EET
DTSTART:20271031T010000
END:STANDARD
END:VTIMEZONE
BEGIN:VEVENT
DTSTART;TZID=Europe/Helsinki:20260401T180000
DTEND;TZID=Europe/Helsinki:20260414T190000
DTSTAMP:20260420T172915
CREATED:20250329T230401Z
LAST-MODIFIED:20260419T062221Z
UID:5152-1775066400-1776193200@liesikappeli.fi
SUMMARY:Myyrmäen helluntaiseurakunnan ja Länsi-Vantaan rukoushuoneyhdistys ry:n vuosikokoukset 14.4. klo 18:00
DESCRIPTION:Kokouskutsu: Seurakunnan kokous 14.4.\nKokouskutsu: Yhdistyksen vuosikokous 14.4.
URL:https://liesikappeli.fi/kalenteri/vuosikokous/
END:VEVENT
BEGIN:VEVENT
DTSTART;TZID=Europe/Helsinki:20260409T180000
DTEND;TZID=Europe/Helsinki:20260414T190000
DTSTAMP:20260420T172915
CREATED:20260329T202039Z
LAST-MODIFIED:20260411T143340Z
UID:6718-1775757600-1776193200@liesikappeli.fi
SUMMARY:Rukouskokous tiistaina 14.4. alkaa yhdistysten vuosikokouksen jälkeen klo 19.00
DESCRIPTION:
URL:https://liesikappeli.fi/kalenteri/rukouskokous-2/
CATEGORIES:Viikko3
END:VEVENT
BEGIN:VEVENT
DTSTART;TZID=Europe/Helsinki:20260412T110000
DTEND;TZID=Europe/Helsinki:20260412T130000
DTSTAMP:20260420T172915
CREATED:20260328T070551Z
LAST-MODIFIED:20260329T073401Z
UID:6705-1775991600-1775998800@liesikappeli.fi
SUMMARY:Jumalanpalvelus klo 11.00
DESCRIPTION:Puhuu Ulla Aamuharju\, johtaaLeif Schwartz\, musiikki Pipsa Kotilainen & co.\, PYHÄKOULU.
URL:https://liesikappeli.fi/kalenteri/jumalanpalvelus-klo-11-00-21/
CATEGORIES:Viikko2
END:VEVENT
BEGIN:VEVENT
DTSTART;TZID=Europe/Helsinki:20260412T140000
DTEND;TZID=Europe/Helsinki:20260412T160000
DTSTAMP:20260420T172915
CREATED:20260328T070737Z
LAST-MODIFIED:20260328T070737Z
UID:6707-1776002400-1776009600@liesikappeli.fi
SUMMARY:Kinyarwandan- ja swahilinkielinen jumalanpalvelus klo 14.00
DESCRIPTION:Yhteyshenkilö Esther Kahindo. Tilaisuudessa tarvittaessa tulkkaus suomeksi.
URL:https://liesikappeli.fi/kalenteri/kinyarwandan-ja-swahilinkielinen-jumalanpalvelus-klo-14-00-23/
CATEGORIES:Viikko2
END:VEVENT
BEGIN:VEVENT
DTSTART;TZID=Europe/Helsinki:20260412T170000
DTEND;TZID=Europe/Helsinki:20260412T190000
DTSTAMP:20260420T172915
CREATED:20260328T071005Z
LAST-MODIFIED:20260328T071005Z
UID:6709-1776013200-1776020400@liesikappeli.fi
SUMMARY:Lingalan-\, ranskan- ja swahilinkielinen jumalanpalvelus klo 17.00
DESCRIPTION:Pastori Delphin Mulamba. Tilaisuudessa tarvittaessa tulkkaus suomeksi.
URL:https://liesikappeli.fi/kalenteri/lingalan-ranskan-ja-swahilinkielinen-jumalanpalvelus-klo-17-00-27/
CATEGORIES:Viikko2
END:VEVENT
END:VCALENDAR