BEGIN:VCALENDAR
VERSION:2.0
PRODID:-//Liesikappeli - ECPv6.15.20//NONSGML v1.0//EN
CALSCALE:GREGORIAN
METHOD:PUBLISH
X-WR-CALNAME:Liesikappeli
X-ORIGINAL-URL:https://liesikappeli.fi
X-WR-CALDESC:Tapahtumat Liesikappeli
REFRESH-INTERVAL;VALUE=DURATION:PT1H
X-Robots-Tag:noindex
X-PUBLISHED-TTL:PT1H
BEGIN:VTIMEZONE
TZID:Europe/Helsinki
BEGIN:DAYLIGHT
TZOFFSETFROM:+0200
TZOFFSETTO:+0300
TZNAME:EEST
DTSTART:20250330T010000
END:DAYLIGHT
BEGIN:STANDARD
TZOFFSETFROM:+0300
TZOFFSETTO:+0200
TZNAME:EET
DTSTART:20251026T010000
END:STANDARD
BEGIN:DAYLIGHT
TZOFFSETFROM:+0200
TZOFFSETTO:+0300
TZNAME:EEST
DTSTART:20260329T010000
END:DAYLIGHT
BEGIN:STANDARD
TZOFFSETFROM:+0300
TZOFFSETTO:+0200
TZNAME:EET
DTSTART:20261025T010000
END:STANDARD
BEGIN:DAYLIGHT
TZOFFSETFROM:+0200
TZOFFSETTO:+0300
TZNAME:EEST
DTSTART:20270328T010000
END:DAYLIGHT
BEGIN:STANDARD
TZOFFSETFROM:+0300
TZOFFSETTO:+0200
TZNAME:EET
DTSTART:20271031T010000
END:STANDARD
END:VTIMEZONE
BEGIN:VEVENT
DTSTART;TZID=Europe/Helsinki:20260421T113000
DTEND;TZID=Europe/Helsinki:20260421T130000
DTSTAMP:20260421T061459
CREATED:20260330T214820Z
LAST-MODIFIED:20260330T214820Z
UID:6754-1776771000-1776776400@liesikappeli.fi
SUMMARY:Päivärukous klo 11.30
DESCRIPTION:Rukoushetken alussa luemme yhdessä Raamattua.
URL:https://liesikappeli.fi/kalenteri/paivarukous-klo-11-30-18/
CATEGORIES:Viikko4
END:VEVENT
BEGIN:VEVENT
DTSTART;TZID=Europe/Helsinki:20260421T180000
DTEND;TZID=Europe/Helsinki:20260421T193000
DTSTAMP:20260421T061459
CREATED:20260330T214931Z
LAST-MODIFIED:20260330T214931Z
UID:6756-1776794400-1776799800@liesikappeli.fi
SUMMARY:Rukouskokous klo 18.00
DESCRIPTION:Tomi Salonen
URL:https://liesikappeli.fi/kalenteri/rukouskokous-klo-18-00-25/
CATEGORIES:Viikko4
END:VEVENT
END:VCALENDAR