BEGIN:VCALENDAR
VERSION:2.0
PRODID:-//Liesikappeli - ECPv6.15.20//NONSGML v1.0//EN
CALSCALE:GREGORIAN
METHOD:PUBLISH
X-WR-CALNAME:Liesikappeli
X-ORIGINAL-URL:https://liesikappeli.fi
X-WR-CALDESC:Tapahtumat Liesikappeli
REFRESH-INTERVAL;VALUE=DURATION:PT1H
X-Robots-Tag:noindex
X-PUBLISHED-TTL:PT1H
BEGIN:VTIMEZONE
TZID:Europe/Helsinki
BEGIN:DAYLIGHT
TZOFFSETFROM:+0200
TZOFFSETTO:+0300
TZNAME:EEST
DTSTART:20250330T010000
END:DAYLIGHT
BEGIN:STANDARD
TZOFFSETFROM:+0300
TZOFFSETTO:+0200
TZNAME:EET
DTSTART:20251026T010000
END:STANDARD
BEGIN:DAYLIGHT
TZOFFSETFROM:+0200
TZOFFSETTO:+0300
TZNAME:EEST
DTSTART:20260329T010000
END:DAYLIGHT
BEGIN:STANDARD
TZOFFSETFROM:+0300
TZOFFSETTO:+0200
TZNAME:EET
DTSTART:20261025T010000
END:STANDARD
BEGIN:DAYLIGHT
TZOFFSETFROM:+0200
TZOFFSETTO:+0300
TZNAME:EEST
DTSTART:20270328T010000
END:DAYLIGHT
BEGIN:STANDARD
TZOFFSETFROM:+0300
TZOFFSETTO:+0200
TZNAME:EET
DTSTART:20271031T010000
END:STANDARD
END:VTIMEZONE
BEGIN:VEVENT
DTSTART;TZID=Europe/Helsinki:20260428T113000
DTEND;TZID=Europe/Helsinki:20260428T130000
DTSTAMP:20260420T172226
CREATED:20260331T053024Z
LAST-MODIFIED:20260331T053024Z
UID:6777-1777375800-1777381200@liesikappeli.fi
SUMMARY:Päivärukous klo 11.30
DESCRIPTION:Aloitamme rukoushetken lukemalla yhdessä Raamattua.
URL:https://liesikappeli.fi/kalenteri/paivarukous-klo-11-30-19/
CATEGORIES:Viikko5
END:VEVENT
BEGIN:VEVENT
DTSTART;TZID=Europe/Helsinki:20260428T180000
DTEND;TZID=Europe/Helsinki:20260428T193000
DTSTAMP:20260420T172226
CREATED:20260331T053125Z
LAST-MODIFIED:20260331T053125Z
UID:6783-1777399200-1777404600@liesikappeli.fi
SUMMARY:Rukouskokous klo 18.00
DESCRIPTION:Marja Turunen
URL:https://liesikappeli.fi/kalenteri/rukouskokous-klo-18-00-26/
CATEGORIES:Viikko5
END:VEVENT
END:VCALENDAR