BEGIN:VCALENDAR
VERSION:2.0
PRODID:-//Liesikappeli - ECPv6.15.20//NONSGML v1.0//EN
CALSCALE:GREGORIAN
METHOD:PUBLISH
X-ORIGINAL-URL:https://liesikappeli.fi
X-WR-CALDESC:Tapahtumat Liesikappeli
REFRESH-INTERVAL;VALUE=DURATION:PT1H
X-Robots-Tag:noindex
X-PUBLISHED-TTL:PT1H
BEGIN:VTIMEZONE
TZID:Europe/Helsinki
BEGIN:DAYLIGHT
TZOFFSETFROM:+0200
TZOFFSETTO:+0300
TZNAME:EEST
DTSTART:20250330T010000
END:DAYLIGHT
BEGIN:STANDARD
TZOFFSETFROM:+0300
TZOFFSETTO:+0200
TZNAME:EET
DTSTART:20251026T010000
END:STANDARD
BEGIN:DAYLIGHT
TZOFFSETFROM:+0200
TZOFFSETTO:+0300
TZNAME:EEST
DTSTART:20260329T010000
END:DAYLIGHT
BEGIN:STANDARD
TZOFFSETFROM:+0300
TZOFFSETTO:+0200
TZNAME:EET
DTSTART:20261025T010000
END:STANDARD
BEGIN:DAYLIGHT
TZOFFSETFROM:+0200
TZOFFSETTO:+0300
TZNAME:EEST
DTSTART:20270328T010000
END:DAYLIGHT
BEGIN:STANDARD
TZOFFSETFROM:+0300
TZOFFSETTO:+0200
TZNAME:EET
DTSTART:20271031T010000
END:STANDARD
END:VTIMEZONE
BEGIN:VEVENT
DTSTART;TZID=Europe/Helsinki:20260129T080000
DTEND;TZID=Europe/Helsinki:20260206T210000
DTSTAMP:20260420T231753
CREATED:20260128T213846Z
LAST-MODIFIED:20260129T071341Z
UID:6417-1769673600-1770411600@liesikappeli.fi
SUMMARY:Rukous- ja paastoviikko 2. - 6.2.2026
DESCRIPTION:Joka arki-ilta (ma – pe) klo 18 rukouskokous
URL:https://liesikappeli.fi/kalenteri/rukous-ja-paastoviikko-2-6-2-2026/
END:VEVENT
BEGIN:VEVENT
DTSTART;TZID=Europe/Helsinki:20260201T110000
DTEND;TZID=Europe/Helsinki:20260201T133000
DTSTAMP:20260420T231753
CREATED:20260128T215224Z
LAST-MODIFIED:20260128T215224Z
UID:6419-1769943600-1769952600@liesikappeli.fi
SUMMARY:Jumalanpalvelus ja ehtoollinen klo 11.00
DESCRIPTION:Puhuu Tony Valerius\, johtaa Ville Tamminen\, musiikki Miika Koivisto & co.\, PYHÄKOULU.
URL:https://liesikappeli.fi/kalenteri/jumalanpalvelus-ja-ehtoollinen-klo-11-00-7/
END:VEVENT
BEGIN:VEVENT
DTSTART;TZID=Europe/Helsinki:20260202T173000
DTEND;TZID=Europe/Helsinki:20260202T183000
DTSTAMP:20260420T231753
CREATED:20260128T221135Z
LAST-MODIFIED:20260128T221135Z
UID:6421-1770053400-1770057000@liesikappeli.fi
SUMMARY:JIPPII -lapsikuoron harjoitukset klo 17.30
DESCRIPTION:
URL:https://liesikappeli.fi/kalenteri/jippii-lapsikuoron-harjoitukset-klo-17-30-8/
END:VEVENT
BEGIN:VEVENT
DTSTART;TZID=Europe/Helsinki:20260202T180000
DTEND;TZID=Europe/Helsinki:20260202T193000
DTSTAMP:20260420T231753
CREATED:20260128T221532Z
LAST-MODIFIED:20260128T221532Z
UID:6425-1770055200-1770060600@liesikappeli.fi
SUMMARY:Rukous- ja paastoviikon rukousilta klo 18.00
DESCRIPTION:Tilaisuus pyhäkoululuokassa.
URL:https://liesikappeli.fi/kalenteri/rukous-ja-paastoviikon-rukousilta-klo-18-00/
END:VEVENT
BEGIN:VEVENT
DTSTART;TZID=Europe/Helsinki:20260203T113000
DTEND;TZID=Europe/Helsinki:20260203T130000
DTSTAMP:20260420T231753
CREATED:20260128T221308Z
LAST-MODIFIED:20260128T221308Z
UID:6423-1770118200-1770123600@liesikappeli.fi
SUMMARY:Päivärukous klo 11.30
DESCRIPTION:Aloitamme rukoushetken lukemalla yhdessä Raamattua.
URL:https://liesikappeli.fi/kalenteri/paivarukous-klo-11-30-7/
END:VEVENT
BEGIN:VEVENT
DTSTART;TZID=Europe/Helsinki:20260203T180000
DTEND;TZID=Europe/Helsinki:20260203T193000
DTSTAMP:20260420T231753
CREATED:20260128T221853Z
LAST-MODIFIED:20260128T221853Z
UID:6427-1770141600-1770147000@liesikappeli.fi
SUMMARY:Rukous- ja paastoviikon rukousilta klo 18.00
DESCRIPTION:Mukana Esko Bollström \n  \n 
URL:https://liesikappeli.fi/kalenteri/rukous-ja-paastoviikon-rukousilta-klo-18-00-2/
END:VEVENT
BEGIN:VEVENT
DTSTART;TZID=Europe/Helsinki:20260204T143000
DTEND;TZID=Europe/Helsinki:20260204T153000
DTSTAMP:20260420T231753
CREATED:20260128T222538Z
LAST-MODIFIED:20260128T222538Z
UID:6429-1770215400-1770219000@liesikappeli.fi
SUMMARY:Ruokajako klo 14.30 - 15.30
DESCRIPTION:Heti Ruokajaon jälkeen lyhyt hengellinen hetki\, jossa voit keskustella ja saada rukousapua.\nwww.ruoka-apu.fi -sivulta löytyvät lähimmät ruokajakopaikat ja yhteisruokailut.
URL:https://liesikappeli.fi/kalenteri/ruokajako-klo-14-30-15-30-35/
END:VEVENT
BEGIN:VEVENT
DTSTART;TZID=Europe/Helsinki:20260204T180000
DTEND;TZID=Europe/Helsinki:20260204T193000
DTSTAMP:20260420T231753
CREATED:20260128T222819Z
LAST-MODIFIED:20260128T222819Z
UID:6431-1770228000-1770233400@liesikappeli.fi
SUMMARY:Rukous- ja paastoviikon rukousilta klo 18.00
DESCRIPTION:
URL:https://liesikappeli.fi/kalenteri/rukous-ja-paastoviikon-rukousilta-klo-18-00-3/
END:VEVENT
BEGIN:VEVENT
DTSTART;TZID=Europe/Helsinki:20260205T120000
DTEND;TZID=Europe/Helsinki:20260205T140000
DTSTAMP:20260420T231753
CREATED:20260128T223014Z
LAST-MODIFIED:20260128T223014Z
UID:6433-1770292800-1770300000@liesikappeli.fi
SUMMARY:Ystäväpiiri klo 12.00
DESCRIPTION:
URL:https://liesikappeli.fi/kalenteri/ystavapiiri-klo-12-00-11/
END:VEVENT
BEGIN:VEVENT
DTSTART;TZID=Europe/Helsinki:20260205T180000
DTEND;TZID=Europe/Helsinki:20260205T193000
DTSTAMP:20260420T231753
CREATED:20260128T223319Z
LAST-MODIFIED:20260128T223319Z
UID:6435-1770314400-1770319800@liesikappeli.fi
SUMMARY:Naistenilta klo 18.00
DESCRIPTION:
URL:https://liesikappeli.fi/kalenteri/naistenilta-klo-18-00-6/
END:VEVENT
BEGIN:VEVENT
DTSTART;TZID=Europe/Helsinki:20260205T180000
DTEND;TZID=Europe/Helsinki:20260205T193000
DTSTAMP:20260420T231753
CREATED:20260128T224511Z
LAST-MODIFIED:20260128T224511Z
UID:6442-1770314400-1770319800@liesikappeli.fi
SUMMARY:Rukous- ja paastoviikon rukousilta klo 18.00
DESCRIPTION:
URL:https://liesikappeli.fi/kalenteri/rukous-ja-paastoviikon-rukousilta-klo-18-00-4/
END:VEVENT
BEGIN:VEVENT
DTSTART;TZID=Europe/Helsinki:20260205T183000
DTEND;TZID=Europe/Helsinki:20260205T210000
DTSTAMP:20260420T231753
CREATED:20260128T223524Z
LAST-MODIFIED:20260128T223524Z
UID:6437-1770316200-1770325200@liesikappeli.fi
SUMMARY:Miestenilta klo 18.30
DESCRIPTION:
URL:https://liesikappeli.fi/kalenteri/miestenilta-klo-18-30-11/
END:VEVENT
BEGIN:VEVENT
DTSTART;TZID=Europe/Helsinki:20260206T170000
DTEND;TZID=Europe/Helsinki:20260206T190000
DTSTAMP:20260420T231753
CREATED:20260128T223907Z
LAST-MODIFIED:20260128T224103Z
UID:6439-1770397200-1770404400@liesikappeli.fi
SUMMARY:Kinyarwandan- ja swahilinkielinen rukousilta klo 17.00
DESCRIPTION:
URL:https://liesikappeli.fi/kalenteri/kinyarwandan-ja-swahilinkielinen-rukousilta-klo-17-00-13/
END:VEVENT
BEGIN:VEVENT
DTSTART;TZID=Europe/Helsinki:20260206T180000
DTEND;TZID=Europe/Helsinki:20260206T193000
DTSTAMP:20260420T231753
CREATED:20260128T224651Z
LAST-MODIFIED:20260128T224651Z
UID:6445-1770400800-1770406200@liesikappeli.fi
SUMMARY:Rukous- ja paastoviikon rukousilta klo 18.00
DESCRIPTION:
URL:https://liesikappeli.fi/kalenteri/rukous-ja-paastoviikon-rukousilta-klo-18-00-5/
END:VEVENT
BEGIN:VEVENT
DTSTART;TZID=Europe/Helsinki:20260208T110000
DTEND;TZID=Europe/Helsinki:20260208T130000
DTSTAMP:20260420T231753
CREATED:20260128T225313Z
LAST-MODIFIED:20260128T225313Z
UID:6447-1770548400-1770555600@liesikappeli.fi
SUMMARY:Jumalanpalvelus klo 11.00
DESCRIPTION:Puhuu Esko Bollström\, johtaa Jari Kolehmainen\, musiikki Pipsa Kotilainen & co.\, PYHÄKOULU
URL:https://liesikappeli.fi/kalenteri/jumalanpalvelus-klo-11-00-17/
END:VEVENT
BEGIN:VEVENT
DTSTART;TZID=Europe/Helsinki:20260209T173000
DTEND;TZID=Europe/Helsinki:20260209T183000
DTSTAMP:20260420T231753
CREATED:20260129T222207Z
LAST-MODIFIED:20260129T222411Z
UID:6449-1770658200-1770661800@liesikappeli.fi
SUMMARY:JIPPII-lapsikuoron harjoitukset klo 17.30
DESCRIPTION:
URL:https://liesikappeli.fi/kalenteri/jippii-lapsikuoron-harjoitukset-klo-17-30-9/
END:VEVENT
BEGIN:VEVENT
DTSTART;TZID=Europe/Helsinki:20260210T113000
DTEND;TZID=Europe/Helsinki:20260210T130000
DTSTAMP:20260420T231753
CREATED:20260129T222707Z
LAST-MODIFIED:20260129T222707Z
UID:6451-1770723000-1770728400@liesikappeli.fi
SUMMARY:Päivärukous klo 11.30
DESCRIPTION:Aloitamme rukoushetken lukemalla yhdessä Raamattua.
URL:https://liesikappeli.fi/kalenteri/paivarukous-klo-11-30-8/
END:VEVENT
BEGIN:VEVENT
DTSTART;TZID=Europe/Helsinki:20260210T180000
DTEND;TZID=Europe/Helsinki:20260210T193000
DTSTAMP:20260420T231753
CREATED:20260208T092859Z
LAST-MODIFIED:20260208T092859Z
UID:6453-1770746400-1770751800@liesikappeli.fi
SUMMARY:Rukouskokous klo 18.00
DESCRIPTION:MukanaTony Valerius
URL:https://liesikappeli.fi/kalenteri/rukouskokous-klo-18-00-18/
END:VEVENT
BEGIN:VEVENT
DTSTART;TZID=Europe/Helsinki:20260211T143000
DTEND;TZID=Europe/Helsinki:20260211T153000
DTSTAMP:20260420T231753
CREATED:20260129T223556Z
LAST-MODIFIED:20260129T223556Z
UID:6455-1770820200-1770823800@liesikappeli.fi
SUMMARY:Ruokajako klo 14.30 - 15.30
DESCRIPTION:Heti Ruokajaon jälkeen lyhyt hengellinen hetki\, jossa voit keskustella ja saada rukousapua.\nwww.ruoka-apu.fi -sivuilta löytyvät lähimmät ruokajakopaikat ja yhteisruokailut.
URL:https://liesikappeli.fi/kalenteri/ruokajako-klo-14-30-15-30-36/
END:VEVENT
BEGIN:VEVENT
DTSTART;TZID=Europe/Helsinki:20260212T120000
DTEND;TZID=Europe/Helsinki:20260212T140000
DTSTAMP:20260420T231753
CREATED:20260129T223701Z
LAST-MODIFIED:20260129T223701Z
UID:6457-1770897600-1770904800@liesikappeli.fi
SUMMARY:Ystäväpiiri klo 12.00
DESCRIPTION:
URL:https://liesikappeli.fi/kalenteri/ystavapiiri-klo-12-00-12/
END:VEVENT
BEGIN:VEVENT
DTSTART;TZID=Europe/Helsinki:20260212T183000
DTEND;TZID=Europe/Helsinki:20260212T210000
DTSTAMP:20260420T231753
CREATED:20260129T223851Z
LAST-MODIFIED:20260129T224101Z
UID:6459-1770921000-1770930000@liesikappeli.fi
SUMMARY:Miestenilta klo 18.30
DESCRIPTION:
URL:https://liesikappeli.fi/kalenteri/miestenilta-klo-18-30-12/
END:VEVENT
BEGIN:VEVENT
DTSTART;TZID=Europe/Helsinki:20260213T170000
DTEND;TZID=Europe/Helsinki:20260213T190000
DTSTAMP:20260420T231753
CREATED:20260129T224554Z
LAST-MODIFIED:20260129T224554Z
UID:6462-1771002000-1771009200@liesikappeli.fi
SUMMARY:Kinyarwandan- ja swahilinkielinen rukousilta klo 17.00
DESCRIPTION:Tarvittaessa tulkkaus suomeksi.
URL:https://liesikappeli.fi/kalenteri/kinyarwandan-ja-swahilinkielinen-rukousilta-klo-17-00-14/
END:VEVENT
BEGIN:VEVENT
DTSTART;TZID=Europe/Helsinki:20260215T110000
DTEND;TZID=Europe/Helsinki:20260215T130000
DTSTAMP:20260420T231753
CREATED:20260129T224916Z
LAST-MODIFIED:20260208T211922Z
UID:6465-1771153200-1771160400@liesikappeli.fi
SUMMARY:Jumalanpalvelus klo 11.00
DESCRIPTION:Puhuu Ulla Aamuharju\, johtaa Leif Schwartz\, musiikki Teresa Koivisto\, PYHÄKOULU.
URL:https://liesikappeli.fi/kalenteri/jumalanpalvelus-klo-11-00-18/
END:VEVENT
BEGIN:VEVENT
DTSTART;TZID=Europe/Helsinki:20260215T140000
DTEND;TZID=Europe/Helsinki:20260215T160000
DTSTAMP:20260420T231753
CREATED:20260129T225149Z
LAST-MODIFIED:20260129T225149Z
UID:6467-1771164000-1771171200@liesikappeli.fi
SUMMARY:Kinyarwandan- ja swahilinkielinen jumalanpalvelus klo 14.00
DESCRIPTION:Esther Kahindo. Tarvittaessa tulkkaus suomeksi.
URL:https://liesikappeli.fi/kalenteri/kinyarwandan-ja-swahilinkielinen-jumalanpalvelus-klo-14-00-17/
END:VEVENT
BEGIN:VEVENT
DTSTART;TZID=Europe/Helsinki:20260215T170000
DTEND;TZID=Europe/Helsinki:20260215T190000
DTSTAMP:20260420T231753
CREATED:20260129T225430Z
LAST-MODIFIED:20260129T225430Z
UID:6469-1771174800-1771182000@liesikappeli.fi
SUMMARY:Lingalan-\, ranskan- ja swahilinkielinen jumalanpalvelus klo 17.00
DESCRIPTION:Pastori Delphin Mulamba. Tarvittaessa tulkkaus suomeksi.
URL:https://liesikappeli.fi/kalenteri/lingalan-ranskan-ja-swahilinkielinen-jumalanpalvelus-klo-17-00-22/
END:VEVENT
BEGIN:VEVENT
DTSTART;TZID=Europe/Helsinki:20260216T173000
DTEND;TZID=Europe/Helsinki:20260216T183000
DTSTAMP:20260420T231753
CREATED:20260130T194926Z
LAST-MODIFIED:20260205T210755Z
UID:6475-1771263000-1771266600@liesikappeli.fi
SUMMARY:JIPPII-lapsikuorolaiset hiihtolomalla!
DESCRIPTION:Koulujen talvilomaviikko!
URL:https://liesikappeli.fi/kalenteri/jippii-lapsikuoron-harjoitus-klo-17-30/
END:VEVENT
BEGIN:VEVENT
DTSTART;TZID=Europe/Helsinki:20260217T113000
DTEND;TZID=Europe/Helsinki:20260217T130000
DTSTAMP:20260420T231753
CREATED:20260130T195455Z
LAST-MODIFIED:20260130T195455Z
UID:6477-1771327800-1771333200@liesikappeli.fi
SUMMARY:Päivärukous klo 11.30
DESCRIPTION:Aloitamme rukoushetken lukemalla yhdessä Raamattua.
URL:https://liesikappeli.fi/kalenteri/paivarukous-klo-11-30-9/
END:VEVENT
BEGIN:VEVENT
DTSTART;TZID=Europe/Helsinki:20260217T180000
DTEND;TZID=Europe/Helsinki:20260217T193000
DTSTAMP:20260420T231753
CREATED:20260130T195909Z
LAST-MODIFIED:20260130T195909Z
UID:6479-1771351200-1771356600@liesikappeli.fi
SUMMARY:Rukouskokous klo 18.00
DESCRIPTION:
URL:https://liesikappeli.fi/kalenteri/rukouskokous-klo-18-00-16/
END:VEVENT
BEGIN:VEVENT
DTSTART;TZID=Europe/Helsinki:20260218T143000
DTEND;TZID=Europe/Helsinki:20260218T153000
DTSTAMP:20260420T231753
CREATED:20260130T200033Z
LAST-MODIFIED:20260130T201044Z
UID:6481-1771425000-1771428600@liesikappeli.fi
SUMMARY:Ruokajako klo 14.30 - 15.30
DESCRIPTION:Heti Ruokajaon jälkeen lyhyt hengellinen hetki\, jossa voit keskustella ja saada rukousapua.\nwww.ruoka-apu.fi -sivuilta löytyvät lähimmät ruokajakopaikat ja yhteisruokailut.
URL:https://liesikappeli.fi/kalenteri/ruokajakelu-klo-14-30/
END:VEVENT
BEGIN:VEVENT
DTSTART;TZID=Europe/Helsinki:20260219T120000
DTEND;TZID=Europe/Helsinki:20260219T140000
DTSTAMP:20260420T231753
CREATED:20260205T210636Z
LAST-MODIFIED:20260205T210636Z
UID:6485-1771502400-1771509600@liesikappeli.fi
SUMMARY:Ystäväpiiri
DESCRIPTION:
URL:https://liesikappeli.fi/kalenteri/ystavapiiri-13/
END:VEVENT
END:VCALENDAR