BEGIN:VCALENDAR
VERSION:2.0
PRODID:-//Liesikappeli - ECPv6.15.20//NONSGML v1.0//EN
CALSCALE:GREGORIAN
METHOD:PUBLISH
X-ORIGINAL-URL:https://liesikappeli.fi
X-WR-CALDESC:Tapahtumat Liesikappeli
REFRESH-INTERVAL;VALUE=DURATION:PT1H
X-Robots-Tag:noindex
X-PUBLISHED-TTL:PT1H
BEGIN:VTIMEZONE
TZID:Europe/Helsinki
BEGIN:DAYLIGHT
TZOFFSETFROM:+0200
TZOFFSETTO:+0300
TZNAME:EEST
DTSTART:20240331T010000
END:DAYLIGHT
BEGIN:STANDARD
TZOFFSETFROM:+0300
TZOFFSETTO:+0200
TZNAME:EET
DTSTART:20241027T010000
END:STANDARD
BEGIN:DAYLIGHT
TZOFFSETFROM:+0200
TZOFFSETTO:+0300
TZNAME:EEST
DTSTART:20250330T010000
END:DAYLIGHT
BEGIN:STANDARD
TZOFFSETFROM:+0300
TZOFFSETTO:+0200
TZNAME:EET
DTSTART:20251026T010000
END:STANDARD
BEGIN:DAYLIGHT
TZOFFSETFROM:+0200
TZOFFSETTO:+0300
TZNAME:EEST
DTSTART:20260329T010000
END:DAYLIGHT
BEGIN:STANDARD
TZOFFSETFROM:+0300
TZOFFSETTO:+0200
TZNAME:EET
DTSTART:20261025T010000
END:STANDARD
BEGIN:DAYLIGHT
TZOFFSETFROM:+0200
TZOFFSETTO:+0300
TZNAME:EEST
DTSTART:20270328T010000
END:DAYLIGHT
BEGIN:STANDARD
TZOFFSETFROM:+0300
TZOFFSETTO:+0200
TZNAME:EET
DTSTART:20271031T010000
END:STANDARD
END:VTIMEZONE
BEGIN:VEVENT
DTSTART;TZID=Europe/Helsinki:20251231T210000
DTEND;TZID=Europe/Helsinki:20260101T040000
DTSTAMP:20260421T182020
CREATED:20251129T214341Z
LAST-MODIFIED:20251129T214341Z
UID:6284-1767214800-1767240000@liesikappeli.fi
SUMMARY:Uuden Vuoden vastaanotto klo 21.00
DESCRIPTION:Lämpimästi tervetuloa vastaanottamaan tulevaa vuotta 2026 ylistyksellä ja rukouksella. Yhteyshenkilö Esther Kahindo.
URL:https://liesikappeli.fi/kalenteri/uuden-vuoden-vastaanotto-klo-21-00/
END:VEVENT
BEGIN:VEVENT
DTSTART;TZID=Europe/Helsinki:20260102T170000
DTEND;TZID=Europe/Helsinki:20260102T190000
DTSTAMP:20260421T182020
CREATED:20251227T202943Z
LAST-MODIFIED:20251227T202943Z
UID:6376-1767373200-1767380400@liesikappeli.fi
SUMMARY:Kinyarwandan- ja swahilinkielinen rukousilta klo 17.00
DESCRIPTION:
URL:https://liesikappeli.fi/kalenteri/kinyarwandan-ja-swahilinkielinen-rukousilta-klo-17-00-8/
END:VEVENT
BEGIN:VEVENT
DTSTART;TZID=Europe/Helsinki:20260103T150000
DTEND;TZID=Europe/Helsinki:20260103T190000
DTSTAMP:20260421T182020
CREATED:20251227T070548Z
LAST-MODIFIED:20251227T070548Z
UID:6299-1767452400-1767466800@liesikappeli.fi
SUMMARY:Muslimien kohtaaminen evankeliumilla -päivä klo 15.00
DESCRIPTION:Ex-muslimi Mohammed kertomassa evankelioinnista. Lämpimästi tervetuloa kaikki kiinnostuneet.
URL:https://liesikappeli.fi/kalenteri/muslimien-kohtaaminen-evankeliumilla-paiva-klo-15-00/
END:VEVENT
BEGIN:VEVENT
DTSTART;TZID=Europe/Helsinki:20260104T110000
DTEND;TZID=Europe/Helsinki:20260104T133000
DTSTAMP:20260421T182020
CREATED:20251227T071149Z
LAST-MODIFIED:20260105T065606Z
UID:6301-1767524400-1767533400@liesikappeli.fi
SUMMARY:Jumalanpalvelus ja ehtoollinen klo 11.00
DESCRIPTION:Puhuu Petri Vesterinen\, johtaa Jari Kolehmainen\, musiikki Olga Olkhovich\, PYHÄKOULU.
URL:https://liesikappeli.fi/kalenteri/jumalanpalvelus-ja-ehtoollinen-klo-11-00-6/
END:VEVENT
BEGIN:VEVENT
DTSTART;TZID=Europe/Helsinki:20260104T140000
DTEND;TZID=Europe/Helsinki:20260104T160000
DTSTAMP:20260421T182020
CREATED:20251227T203241Z
LAST-MODIFIED:20251227T203241Z
UID:6378-1767535200-1767542400@liesikappeli.fi
SUMMARY:Kinyarwandan- ja swahilinkielinen jumalanpalvelus klo 14.00
DESCRIPTION:Yhteyshenkilö Esther Kahindo. Tilaisuudessa tarvittaessa tulkkaus suomeksi.
URL:https://liesikappeli.fi/kalenteri/kinyarwandan-ja-swahilinkielinen-jumalanpalvelus-klo-14-00-13/
END:VEVENT
BEGIN:VEVENT
DTSTART;TZID=Europe/Helsinki:20260104T170000
DTEND;TZID=Europe/Helsinki:20260104T190000
DTSTAMP:20260421T182020
CREATED:20251227T203544Z
LAST-MODIFIED:20251227T203544Z
UID:6380-1767546000-1767553200@liesikappeli.fi
SUMMARY:Lingalan-\, ranskan- ja swahilinkielinen jumalanpalvelus klo 17.00
DESCRIPTION:Pastori Delphin Mulamba. Tilaisuudessa tarvittaessa tulkkaus suomeksi.
URL:https://liesikappeli.fi/kalenteri/lingalan-ranskan-ja-swahilinkielinen-jumalanpalvelus-klo-17-00-18/
END:VEVENT
BEGIN:VEVENT
DTSTART;TZID=Europe/Helsinki:20260106T113000
DTEND;TZID=Europe/Helsinki:20260106T130000
DTSTAMP:20260421T182020
CREATED:20251227T194713Z
LAST-MODIFIED:20251227T194713Z
UID:6361-1767699000-1767704400@liesikappeli.fi
SUMMARY:Päivärukoushetki klo 11.30
DESCRIPTION:Aloitamme rukoushetken lukemalla yhdessä Raamattua.
URL:https://liesikappeli.fi/kalenteri/paivarukoushetki-klo-11-30-4/
END:VEVENT
BEGIN:VEVENT
DTSTART;TZID=Europe/Helsinki:20260106T180000
DTEND;TZID=Europe/Helsinki:20260106T193000
DTSTAMP:20260421T182020
CREATED:20251227T195033Z
LAST-MODIFIED:20251227T195033Z
UID:6363-1767722400-1767727800@liesikappeli.fi
SUMMARY:Rukouskokous klo 18.00
DESCRIPTION:Mukana Tony Valerius.
URL:https://liesikappeli.fi/kalenteri/rukouskokous-klo-18-00-15/
END:VEVENT
BEGIN:VEVENT
DTSTART;TZID=Europe/Helsinki:20260108T120000
DTEND;TZID=Europe/Helsinki:20260108T140000
DTSTAMP:20260421T182020
CREATED:20251227T071227Z
LAST-MODIFIED:20251227T071227Z
UID:6303-1767873600-1767880800@liesikappeli.fi
SUMMARY:Ystäväpiiri klo 12.00
DESCRIPTION:
URL:https://liesikappeli.fi/kalenteri/ystavapiiri-klo-12-00-7/
END:VEVENT
BEGIN:VEVENT
DTSTART;TZID=Europe/Helsinki:20260108T180000
DTEND;TZID=Europe/Helsinki:20260108T193000
DTSTAMP:20260421T182020
CREATED:20251227T071517Z
LAST-MODIFIED:20251227T071732Z
UID:6309-1767895200-1767900600@liesikappeli.fi
SUMMARY:Naistenilta klo 18.00
DESCRIPTION:Naistenillat vain parillisilla viikoilla!
URL:https://liesikappeli.fi/kalenteri/naistenilta-klo-18-00-4/
END:VEVENT
BEGIN:VEVENT
DTSTART;TZID=Europe/Helsinki:20260108T183000
DTEND;TZID=Europe/Helsinki:20260108T210000
DTSTAMP:20260421T182020
CREATED:20251227T071419Z
LAST-MODIFIED:20251227T071419Z
UID:6307-1767897000-1767906000@liesikappeli.fi
SUMMARY:Miestenilta klo 18.30
DESCRIPTION:
URL:https://liesikappeli.fi/kalenteri/miestenilta-klo-18-30-8/
END:VEVENT
BEGIN:VEVENT
DTSTART;TZID=Europe/Helsinki:20260109T170000
DTEND;TZID=Europe/Helsinki:20260109T190000
DTSTAMP:20260421T182020
CREATED:20251227T203909Z
LAST-MODIFIED:20251227T203909Z
UID:6382-1767978000-1767985200@liesikappeli.fi
SUMMARY:Kinyarwandan- ja swahilinkielinen rukousilta klo 17.00
DESCRIPTION:
URL:https://liesikappeli.fi/kalenteri/kinyarwandan-ja-swahilinkielinen-rukousilta-klo-17-00-9/
END:VEVENT
BEGIN:VEVENT
DTSTART;TZID=Europe/Helsinki:20260111T110000
DTEND;TZID=Europe/Helsinki:20260111T130000
DTSTAMP:20260421T182020
CREATED:20251227T071258Z
LAST-MODIFIED:20251227T200657Z
UID:6305-1768129200-1768136400@liesikappeli.fi
SUMMARY:Jumalanpalvelus klo 11.00
DESCRIPTION:Puhuu Leif Schwartz\, johtaa Esko Bollström\, musiikki Pipsa Kotilainen\, PYHÄKOULU.
URL:https://liesikappeli.fi/kalenteri/jumalanpalvelus-klo-10-00/
END:VEVENT
BEGIN:VEVENT
DTSTART;TZID=Europe/Helsinki:20260111T140000
DTEND;TZID=Europe/Helsinki:20260111T160000
DTSTAMP:20260421T182020
CREATED:20251227T204138Z
LAST-MODIFIED:20251227T204138Z
UID:6384-1768140000-1768147200@liesikappeli.fi
SUMMARY:Kinyarwandan- ja swahilinkielinen jumalanpalvelus klo 14.00
DESCRIPTION:Yhteyshenkilö Esther Kahindo. Tilaisuudessa tarvittaessa tulkkaus suomeksi.
URL:https://liesikappeli.fi/kalenteri/kinyarwandan-ja-swahilinkielinen-jumalanpalvelus-klo-14-00-14/
END:VEVENT
BEGIN:VEVENT
DTSTART;TZID=Europe/Helsinki:20260111T170000
DTEND;TZID=Europe/Helsinki:20260111T190000
DTSTAMP:20260421T182020
CREATED:20251227T204402Z
LAST-MODIFIED:20251227T204402Z
UID:6386-1768150800-1768158000@liesikappeli.fi
SUMMARY:Lingalan-\, ranskan- ja swahilinkielinen jumalanpalvelus klo 17.00
DESCRIPTION:Pastori Delphin Mulamba. Tilaisuudessa tarvittaessa tulkkaus suomeksi.
URL:https://liesikappeli.fi/kalenteri/lingalan-ranskan-ja-swahilinkielinen-jumalanpalvelus-klo-17-00-19/
END:VEVENT
BEGIN:VEVENT
DTSTART;TZID=Europe/Helsinki:20260112T173000
DTEND;TZID=Europe/Helsinki:20260112T183000
DTSTAMP:20260421T182020
CREATED:20251227T071845Z
LAST-MODIFIED:20251227T071845Z
UID:6311-1768239000-1768242600@liesikappeli.fi
SUMMARY:JIPPII -lapsikuoron harjoitukset klo 17.30
DESCRIPTION:
URL:https://liesikappeli.fi/kalenteri/jippii-lapsikuoron-harjoitukset-klo-17-30-5/
END:VEVENT
BEGIN:VEVENT
DTSTART;TZID=Europe/Helsinki:20260113T113000
DTEND;TZID=Europe/Helsinki:20260113T130000
DTSTAMP:20260421T182020
CREATED:20251227T072201Z
LAST-MODIFIED:20251227T072201Z
UID:6314-1768303800-1768309200@liesikappeli.fi
SUMMARY:Päivärukoushetki klo 11.30
DESCRIPTION:Aloitamme rukoushetken lukemalla yhdessä Raamattua.
URL:https://liesikappeli.fi/kalenteri/paivarukoushetki-klo-11-30/
END:VEVENT
BEGIN:VEVENT
DTSTART;TZID=Europe/Helsinki:20260113T180000
DTEND;TZID=Europe/Helsinki:20260113T193000
DTSTAMP:20260421T182020
CREATED:20251227T075339Z
LAST-MODIFIED:20251227T201402Z
UID:6330-1768327200-1768332600@liesikappeli.fi
SUMMARY:Rukouskokous klo 18.00
DESCRIPTION:Mukana Marja Turunen.
URL:https://liesikappeli.fi/kalenteri/rukouskokous-klo-18-00-13/
END:VEVENT
BEGIN:VEVENT
DTSTART;TZID=Europe/Helsinki:20260114T143000
DTEND;TZID=Europe/Helsinki:20260114T153000
DTSTAMP:20260421T182020
CREATED:20251227T074801Z
LAST-MODIFIED:20251227T075557Z
UID:6316-1768401000-1768404600@liesikappeli.fi
SUMMARY:Ruokajako alkaa klo 14.30 - 15.30
DESCRIPTION:Lyhyt hengellinen hetki heti ruokajaon jälkeen\, jossa voit keskutella ja saada rukousta. www.ruoka-apu.fi -sivulta löytyy lähimmät ruokajakelupaikat ja yhteisruokailut.
URL:https://liesikappeli.fi/kalenteri/ruokajako-alkaa-klo-14-30-15-30/
END:VEVENT
BEGIN:VEVENT
DTSTART;TZID=Europe/Helsinki:20260115T120000
DTEND;TZID=Europe/Helsinki:20260115T140000
DTSTAMP:20260421T182020
CREATED:20251227T074919Z
LAST-MODIFIED:20251227T074919Z
UID:6318-1768478400-1768485600@liesikappeli.fi
SUMMARY:Ystäväpiiri klo 12.00
DESCRIPTION:
URL:https://liesikappeli.fi/kalenteri/ystavapiiri-klo-12-00-8/
END:VEVENT
BEGIN:VEVENT
DTSTART;TZID=Europe/Helsinki:20260115T183000
DTEND;TZID=Europe/Helsinki:20260115T210000
DTSTAMP:20260421T182020
CREATED:20251227T074943Z
LAST-MODIFIED:20251227T074943Z
UID:6320-1768501800-1768510800@liesikappeli.fi
SUMMARY:Miestenilta klo 18.30
DESCRIPTION:
URL:https://liesikappeli.fi/kalenteri/miestenilta-klo-18-30-9/
END:VEVENT
BEGIN:VEVENT
DTSTART;TZID=Europe/Helsinki:20260116T170000
DTEND;TZID=Europe/Helsinki:20260116T190000
DTSTAMP:20260421T182020
CREATED:20251227T204607Z
LAST-MODIFIED:20251227T204607Z
UID:6388-1768582800-1768590000@liesikappeli.fi
SUMMARY:Kinyarwandan- ja swahilinkielinen rukousilta klo 17.00
DESCRIPTION:
URL:https://liesikappeli.fi/kalenteri/kinyarwandan-ja-swahilinkielinen-rukousilta-klo-17-00-10/
END:VEVENT
BEGIN:VEVENT
DTSTART;TZID=Europe/Helsinki:20260118T110000
DTEND;TZID=Europe/Helsinki:20260118T130000
DTSTAMP:20260421T182020
CREATED:20251227T075019Z
LAST-MODIFIED:20260107T105055Z
UID:6322-1768734000-1768741200@liesikappeli.fi
SUMMARY:Lähetysjumalanpalvelus klo 11.00
DESCRIPTION:Unkarissa olevat lähetystyöntekijät Linnea ja Eero Valtiala puhuvat\, johtaa Ville Tamminen\, musiikki Worship Team\, PYHÄKOULU.
URL:https://liesikappeli.fi/kalenteri/jumalanpalvelus-klo-11-00-16/
END:VEVENT
BEGIN:VEVENT
DTSTART;TZID=Europe/Helsinki:20260118T140000
DTEND;TZID=Europe/Helsinki:20260118T160000
DTSTAMP:20260421T182020
CREATED:20251227T204828Z
LAST-MODIFIED:20251227T204828Z
UID:6390-1768744800-1768752000@liesikappeli.fi
SUMMARY:Kinyarwandan- ja swahilinkielinen jumalanpalvelus klo 14.00
DESCRIPTION:Yhteyshenkilö Esther Kahindo. Tilaisuudessa tarvittaessa tulkkaus suomeksi.
URL:https://liesikappeli.fi/kalenteri/kinyarwandan-ja-swahilinkielinen-jumalanpalvelus-klo-14-00-15/
END:VEVENT
BEGIN:VEVENT
DTSTART;TZID=Europe/Helsinki:20260118T170000
DTEND;TZID=Europe/Helsinki:20260118T190000
DTSTAMP:20260421T182020
CREATED:20251227T205200Z
LAST-MODIFIED:20251227T205200Z
UID:6392-1768755600-1768762800@liesikappeli.fi
SUMMARY:Lingalan-\, ranskan- ja swahilinkielinen jumalanpalvelus klo 17.00
DESCRIPTION:Pastori Delphin Mulamba. Tilaisuudessa tarvittaessa tulkkaus suomeksi.
URL:https://liesikappeli.fi/kalenteri/lingalan-ranskan-ja-swahilinkielinen-jumalanpalvelus-klo-17-00-20/
END:VEVENT
BEGIN:VEVENT
DTSTART;TZID=Europe/Helsinki:20260119T173000
DTEND;TZID=Europe/Helsinki:20260119T183000
DTSTAMP:20260421T182020
CREATED:20251227T075058Z
LAST-MODIFIED:20251227T075058Z
UID:6324-1768843800-1768847400@liesikappeli.fi
SUMMARY:JIPPII -lapsikuoron harjoitukset klo 17.30
DESCRIPTION:
URL:https://liesikappeli.fi/kalenteri/jippii-lapsikuoron-harjoitukset-klo-17-30-6/
END:VEVENT
BEGIN:VEVENT
DTSTART;TZID=Europe/Helsinki:20260120T113000
DTEND;TZID=Europe/Helsinki:20260120T130000
DTSTAMP:20260421T182020
CREATED:20251227T075146Z
LAST-MODIFIED:20251227T075146Z
UID:6326-1768908600-1768914000@liesikappeli.fi
SUMMARY:Päivärukoushetki klo 11.30
DESCRIPTION:Aloitamme rukoushetken lukemalla yhdessä Raamattua.
URL:https://liesikappeli.fi/kalenteri/paivarukoushetki-klo-11-30-2/
END:VEVENT
BEGIN:VEVENT
DTSTART;TZID=Europe/Helsinki:20260120T180000
DTEND;TZID=Europe/Helsinki:20260120T193000
DTSTAMP:20260421T182020
CREATED:20251227T075227Z
LAST-MODIFIED:20251227T200409Z
UID:6328-1768932000-1768937400@liesikappeli.fi
SUMMARY:Rukouskokous klo 18.00
DESCRIPTION:Mukana Leif Schwartz.
URL:https://liesikappeli.fi/kalenteri/rukouskokous-klo-18-00-12/
END:VEVENT
BEGIN:VEVENT
DTSTART;TZID=Europe/Helsinki:20260121T143000
DTEND;TZID=Europe/Helsinki:20260121T153000
DTSTAMP:20260421T182020
CREATED:20251227T075801Z
LAST-MODIFIED:20251227T075801Z
UID:6334-1769005800-1769009400@liesikappeli.fi
SUMMARY:Ruokajako klo 14.30 - 15.30
DESCRIPTION:Heti ruokajaon jälkeen lyhyt hengellinen hetki\, jossa voit keskustella ja saada rukousapua.   www.ruoka-apu.fi -sivulta löytyy lähimmät ruokajakopaikat ja yhteisruokailut.
URL:https://liesikappeli.fi/kalenteri/ruokajako-klo-14-30-15-30-23/
END:VEVENT
BEGIN:VEVENT
DTSTART;TZID=Europe/Helsinki:20260122T120000
DTEND;TZID=Europe/Helsinki:20260122T140000
DTSTAMP:20260421T182020
CREATED:20251227T075844Z
LAST-MODIFIED:20251227T075844Z
UID:6336-1769083200-1769090400@liesikappeli.fi
SUMMARY:Ystäväpiiri klo 12.00
DESCRIPTION:
URL:https://liesikappeli.fi/kalenteri/ystavapiiri-klo-12-00-9/
END:VEVENT
END:VCALENDAR