BEGIN:VCALENDAR
VERSION:2.0
PRODID:-//Liesikappeli - ECPv6.15.20//NONSGML v1.0//EN
CALSCALE:GREGORIAN
METHOD:PUBLISH
X-ORIGINAL-URL:https://liesikappeli.fi
X-WR-CALDESC:Tapahtumat Liesikappeli
REFRESH-INTERVAL;VALUE=DURATION:PT1H
X-Robots-Tag:noindex
X-PUBLISHED-TTL:PT1H
BEGIN:VTIMEZONE
TZID:Europe/Helsinki
BEGIN:DAYLIGHT
TZOFFSETFROM:+0200
TZOFFSETTO:+0300
TZNAME:EEST
DTSTART:20250330T010000
END:DAYLIGHT
BEGIN:STANDARD
TZOFFSETFROM:+0300
TZOFFSETTO:+0200
TZNAME:EET
DTSTART:20251026T010000
END:STANDARD
BEGIN:DAYLIGHT
TZOFFSETFROM:+0200
TZOFFSETTO:+0300
TZNAME:EEST
DTSTART:20260329T010000
END:DAYLIGHT
BEGIN:STANDARD
TZOFFSETFROM:+0300
TZOFFSETTO:+0200
TZNAME:EET
DTSTART:20261025T010000
END:STANDARD
BEGIN:DAYLIGHT
TZOFFSETFROM:+0200
TZOFFSETTO:+0300
TZNAME:EEST
DTSTART:20270328T010000
END:DAYLIGHT
BEGIN:STANDARD
TZOFFSETFROM:+0300
TZOFFSETTO:+0200
TZNAME:EET
DTSTART:20271031T010000
END:STANDARD
END:VTIMEZONE
BEGIN:VEVENT
DTSTART;TZID=Europe/Helsinki:20260227T170000
DTEND;TZID=Europe/Helsinki:20260227T190000
DTSTAMP:20260421T054005
CREATED:20260130T210704Z
LAST-MODIFIED:20260130T210704Z
UID:6507-1772211600-1772218800@liesikappeli.fi
SUMMARY:Kinyarwandan- ja swahilinkielinen rukousilta klo 17.00
DESCRIPTION:Tarvittaessa tulkkaus suomeksi.
URL:https://liesikappeli.fi/kalenteri/kinyarwandan-ja-swahilinkielinen-rukousilta-klo-17-00-16/
END:VEVENT
BEGIN:VEVENT
DTSTART;TZID=Europe/Helsinki:20260301T110000
DTEND;TZID=Europe/Helsinki:20260301T140000
DTSTAMP:20260421T054005
CREATED:20260222T061526Z
LAST-MODIFIED:20260224T055303Z
UID:6523-1772362800-1772373600@liesikappeli.fi
SUMMARY:Jumalanpalvelus ja ehtoollinen klo 11.00
DESCRIPTION:Puhuu Leif Schwartz\, johtaa Jarkko Lalu\, musiikki Pipsa Kotilainen &co.\, PYHÄKOULU.
URL:https://liesikappeli.fi/kalenteri/jumalanpalvelus-ja-ehtoollinen-klo-11-00-8/
CATEGORIES:Viikko4
END:VEVENT
BEGIN:VEVENT
DTSTART;TZID=Europe/Helsinki:20260301T140000
DTEND;TZID=Europe/Helsinki:20260301T160000
DTSTAMP:20260421T054005
CREATED:20260224T060242Z
LAST-MODIFIED:20260224T060242Z
UID:6536-1772373600-1772380800@liesikappeli.fi
SUMMARY:Kinyarwandan-ja swahilinkielinen jumalanpalvelus klo 14.00
DESCRIPTION:Yhteyshenkilö Esther Kahindo. Tarvittaessa tulkkaus suomeksi.
URL:https://liesikappeli.fi/kalenteri/kinyarwandan-ja-swahilinkielinen-jumalanpalvelus-klo-14-00-18/
CATEGORIES:Viikko4
END:VEVENT
BEGIN:VEVENT
DTSTART;TZID=Europe/Helsinki:20260301T170000
DTEND;TZID=Europe/Helsinki:20260301T190000
DTSTAMP:20260421T054005
CREATED:20260224T060529Z
LAST-MODIFIED:20260224T060529Z
UID:6538-1772384400-1772391600@liesikappeli.fi
SUMMARY:Lingalan-\, ranskan- ja swahilinkielinen jumalanpalvelus klo 17.00
DESCRIPTION:Pastori Delphin Mulamba. Tarvittaessa tulkkaus suomeksi.
URL:https://liesikappeli.fi/kalenteri/lingalan-ranskan-ja-swahilinkielinen-jumalanpalvelus-klo-17-00-23/
CATEGORIES:Viikko1
END:VEVENT
BEGIN:VEVENT
DTSTART;TZID=Europe/Helsinki:20260302T173000
DTEND;TZID=Europe/Helsinki:20260302T183000
DTSTAMP:20260421T054005
CREATED:20260224T060828Z
LAST-MODIFIED:20260224T060828Z
UID:6540-1772472600-1772476200@liesikappeli.fi
SUMMARY:JIPPII -lapsikuoron harjoitukset klo 17.30 - 18.30
DESCRIPTION:
URL:https://liesikappeli.fi/kalenteri/jippii-lapsikuoron-harjoitukset-klo-17-30-18-30-8/
CATEGORIES:Viikko1
END:VEVENT
BEGIN:VEVENT
DTSTART;TZID=Europe/Helsinki:20260303T113000
DTEND;TZID=Europe/Helsinki:20260303T130000
DTSTAMP:20260421T054005
CREATED:20260224T061006Z
LAST-MODIFIED:20260224T061006Z
UID:6542-1772537400-1772542800@liesikappeli.fi
SUMMARY:Päivärukous klo 11.30
DESCRIPTION:Aloitamme rukoushetken lukemalla yhdessä Raamattua.
URL:https://liesikappeli.fi/kalenteri/paivarukous-klo-11-30-11/
CATEGORIES:Viikko1
END:VEVENT
BEGIN:VEVENT
DTSTART;TZID=Europe/Helsinki:20260303T180000
DTEND;TZID=Europe/Helsinki:20260303T193000
DTSTAMP:20260421T054005
CREATED:20260224T061213Z
LAST-MODIFIED:20260224T061213Z
UID:6544-1772560800-1772566200@liesikappeli.fi
SUMMARY:Rukouskokous klo 18.00
DESCRIPTION:Mukana Tony Valerius
URL:https://liesikappeli.fi/kalenteri/rukouskokous-klo-18-00-19/
CATEGORIES:Viikko1
END:VEVENT
BEGIN:VEVENT
DTSTART;TZID=Europe/Helsinki:20260304T143000
DTEND;TZID=Europe/Helsinki:20260304T153000
DTSTAMP:20260421T054005
CREATED:20260224T061330Z
LAST-MODIFIED:20260224T061603Z
UID:6546-1772634600-1772638200@liesikappeli.fi
SUMMARY:Ruokajako klo 14.30 - 15.30
DESCRIPTION:
URL:https://liesikappeli.fi/kalenteri/ruokajako-klo-14-30-15-30-38/
CATEGORIES:Viikko1
END:VEVENT
BEGIN:VEVENT
DTSTART;TZID=Europe/Helsinki:20260305T120000
DTEND;TZID=Europe/Helsinki:20260305T140000
DTSTAMP:20260421T054005
CREATED:20260224T061445Z
LAST-MODIFIED:20260224T061445Z
UID:6548-1772712000-1772719200@liesikappeli.fi
SUMMARY:Ystäväpiiri klo 12.00
DESCRIPTION:
URL:https://liesikappeli.fi/kalenteri/ystavapiiri-klo-12-00-14/
CATEGORIES:Viikko1
END:VEVENT
BEGIN:VEVENT
DTSTART;TZID=Europe/Helsinki:20260305T180000
DTEND;TZID=Europe/Helsinki:20260305T193000
DTSTAMP:20260421T054005
CREATED:20260224T062016Z
LAST-MODIFIED:20260224T062016Z
UID:6550-1772733600-1772739000@liesikappeli.fi
SUMMARY:Naistenilta klo 18.00
DESCRIPTION:Ilta vain parillisilla viikoilla.
URL:https://liesikappeli.fi/kalenteri/naistenilta-klo-18-00-8/
CATEGORIES:Viikko1
END:VEVENT
BEGIN:VEVENT
DTSTART;TZID=Europe/Helsinki:20260305T183000
DTEND;TZID=Europe/Helsinki:20260305T210000
DTSTAMP:20260421T054005
CREATED:20260224T062612Z
LAST-MODIFIED:20260307T132500Z
UID:6554-1772735400-1772744400@liesikappeli.fi
SUMMARY:Miestenilta klo 18.30
DESCRIPTION:
URL:https://liesikappeli.fi/kalenteri/miestenilta-klo-18-30-14/
CATEGORIES:Viikko1
END:VEVENT
BEGIN:VEVENT
DTSTART;TZID=Europe/Helsinki:20260306T170000
DTEND;TZID=Europe/Helsinki:20260306T190000
DTSTAMP:20260421T054005
CREATED:20260224T062223Z
LAST-MODIFIED:20260224T062223Z
UID:6552-1772816400-1772823600@liesikappeli.fi
SUMMARY:Kinyarwandan- ja swahilinkielinen rukousilta klo 17.00
DESCRIPTION:Tilaisuudessa tarvittaessa tulkkaus suomeksi.
URL:https://liesikappeli.fi/kalenteri/kinyarwandan-ja-swahilinkielinen-rukousilta-klo-17-00-17/
CATEGORIES:Viikko1
END:VEVENT
BEGIN:VEVENT
DTSTART;TZID=Europe/Helsinki:20260308T110000
DTEND;TZID=Europe/Helsinki:20260308T130000
DTSTAMP:20260421T054005
CREATED:20260224T063730Z
LAST-MODIFIED:20260307T154006Z
UID:6556-1772967600-1772974800@liesikappeli.fi
SUMMARY:Jumalanpalvelus klo 11.00
DESCRIPTION:Puhuu Tony Valerius\, johtaa Ville Tamminen\, musiikki Olga Olkhovich\, PYHÄKOULU.
URL:https://liesikappeli.fi/kalenteri/jumalanpalvelus-klo-11-00-19/
CATEGORIES:Viikko1
END:VEVENT
BEGIN:VEVENT
DTSTART;TZID=Europe/Helsinki:20260308T140000
DTEND;TZID=Europe/Helsinki:20260308T160000
DTSTAMP:20260421T054005
CREATED:20260224T064002Z
LAST-MODIFIED:20260224T064002Z
UID:6558-1772978400-1772985600@liesikappeli.fi
SUMMARY:Kinyarwandan- ja swahilinkielinen jumalanpalvelus klo 14.00
DESCRIPTION:Yhteyshenkilö Esther Kahindo. Tilaisuudessa tarvittaessa tulkkaus suomeksi.
URL:https://liesikappeli.fi/kalenteri/kinyarwandan-ja-swahilinkielinen-jumalanpalvelus-klo-14-00-19/
CATEGORIES:Viikko1
END:VEVENT
BEGIN:VEVENT
DTSTART;TZID=Europe/Helsinki:20260308T170000
DTEND;TZID=Europe/Helsinki:20260308T190000
DTSTAMP:20260421T054005
CREATED:20260224T064749Z
LAST-MODIFIED:20260224T064749Z
UID:6560-1772989200-1772996400@liesikappeli.fi
SUMMARY:Lingalan-\, ranskankielinen- ja swahilinkielinen jumalanpalvelus klo 17.00
DESCRIPTION:Pastori Delphin Mulamba. Tilaisuudessa tarvittaessa tulkkaus suomeksi.
URL:https://liesikappeli.fi/kalenteri/lingalan-ranskankielinen-ja-swahilinkielinen-jumalanpalvelus-klo-17-00/
CATEGORIES:Viikko1
END:VEVENT
BEGIN:VEVENT
DTSTART;TZID=Europe/Helsinki:20260309T173000
DTEND;TZID=Europe/Helsinki:20260309T183000
DTSTAMP:20260421T054005
CREATED:20260224T065214Z
LAST-MODIFIED:20260224T065214Z
UID:6562-1773077400-1773081000@liesikappeli.fi
SUMMARY:JIPPII -lapsikuoron harjoitukset klo 17.30 - 18.30
DESCRIPTION:
URL:https://liesikappeli.fi/kalenteri/jippii-lapsikuoron-harjoitukset-klo-17-30-18-30-9/
CATEGORIES:Viikko2
END:VEVENT
BEGIN:VEVENT
DTSTART;TZID=Europe/Helsinki:20260310T113000
DTEND;TZID=Europe/Helsinki:20260310T130000
DTSTAMP:20260421T054005
CREATED:20260224T124206Z
LAST-MODIFIED:20260224T124206Z
UID:6597-1773142200-1773147600@liesikappeli.fi
SUMMARY:Päivärukous klo 11.30
DESCRIPTION:Aloitamme rukoushetken lukemalla yhdessä Raamattua.
URL:https://liesikappeli.fi/kalenteri/paivarukous-klo-11-30-13/
CATEGORIES:Viikko2
END:VEVENT
BEGIN:VEVENT
DTSTART;TZID=Europe/Helsinki:20260310T180000
DTEND;TZID=Europe/Helsinki:20260310T193000
DTSTAMP:20260421T054005
CREATED:20260224T065632Z
LAST-MODIFIED:20260224T065632Z
UID:6567-1773165600-1773171000@liesikappeli.fi
SUMMARY:Rukouskokous klo 18.00
DESCRIPTION:Mukana Leif Schwartz
URL:https://liesikappeli.fi/kalenteri/rukouskokous-klo-18-00-20/
CATEGORIES:Viikko2
END:VEVENT
BEGIN:VEVENT
DTSTART;TZID=Europe/Helsinki:20260311T143000
DTEND;TZID=Europe/Helsinki:20260311T153000
DTSTAMP:20260421T054005
CREATED:20260224T065807Z
LAST-MODIFIED:20260224T065807Z
UID:6569-1773239400-1773243000@liesikappeli.fi
SUMMARY:Ruokajako klo 14.30 - 15.30
DESCRIPTION:
URL:https://liesikappeli.fi/kalenteri/ruokajako-klo-14-30-15-30-39/
CATEGORIES:Viikko2
END:VEVENT
BEGIN:VEVENT
DTSTART;TZID=Europe/Helsinki:20260312T120000
DTEND;TZID=Europe/Helsinki:20260312T140000
DTSTAMP:20260421T054005
CREATED:20260224T065937Z
LAST-MODIFIED:20260224T065937Z
UID:6571-1773316800-1773324000@liesikappeli.fi
SUMMARY:Ystäväpiiri klo 12.00
DESCRIPTION:
URL:https://liesikappeli.fi/kalenteri/ystavapiiri-klo-12-00-15/
CATEGORIES:Viikko2
END:VEVENT
BEGIN:VEVENT
DTSTART;TZID=Europe/Helsinki:20260312T183000
DTEND;TZID=Europe/Helsinki:20260312T210000
DTSTAMP:20260421T054005
CREATED:20260224T070052Z
LAST-MODIFIED:20260224T070052Z
UID:6573-1773340200-1773349200@liesikappeli.fi
SUMMARY:Miestenilta klo 18.30
DESCRIPTION:
URL:https://liesikappeli.fi/kalenteri/miestenilta-klo-18-30-15/
CATEGORIES:Viikko2
END:VEVENT
BEGIN:VEVENT
DTSTART;TZID=Europe/Helsinki:20260313T170000
DTEND;TZID=Europe/Helsinki:20260313T190000
DTSTAMP:20260421T054005
CREATED:20260224T124549Z
LAST-MODIFIED:20260224T124549Z
UID:6599-1773421200-1773428400@liesikappeli.fi
SUMMARY:Kinyarwandan- ja swahilinkielinen rukousilta klo 17.00
DESCRIPTION:Tilaisuudessa tarvittaessa tulkkaus suomeksi.
URL:https://liesikappeli.fi/kalenteri/kinyarwandan-ja-swahilinkielinen-rukousilta-klo-17-00-19/
CATEGORIES:Viikko2
END:VEVENT
BEGIN:VEVENT
DTSTART;TZID=Europe/Helsinki:20260315T110000
DTEND;TZID=Europe/Helsinki:20260315T133000
DTSTAMP:20260421T054005
CREATED:20260224T070621Z
LAST-MODIFIED:20260314T101012Z
UID:6578-1773572400-1773581400@liesikappeli.fi
SUMMARY:Lähetysjumalanpalvelus klo 11.00
DESCRIPTION:Puhe ja musiikki Elämä ja Valo -lauluryhmä\, johtaa Esko Bollström. (Huom! Pyhäkoulua ei tänä sunnuntaina).
URL:https://liesikappeli.fi/kalenteri/lahetysjumalanpalvelus-klo-11-00-2/
CATEGORIES:Viikko2
END:VEVENT
BEGIN:VEVENT
DTSTART;TZID=Europe/Helsinki:20260315T140000
DTEND;TZID=Europe/Helsinki:20260315T160000
DTSTAMP:20260421T054005
CREATED:20260224T070918Z
LAST-MODIFIED:20260224T070918Z
UID:6588-1773583200-1773590400@liesikappeli.fi
SUMMARY:Kinyarwandan- ja swahilinkielinen jumalanpalvelus klo 14.00
DESCRIPTION:Yhteyshenkilö Esther Kahindo. Tilaisuudessa tarvittaessa tulkkaus suomeksi.
URL:https://liesikappeli.fi/kalenteri/kinyarwandan-ja-swahilinkielinen-jumalanpalvelus-klo-14-00-20/
CATEGORIES:Viikko2
END:VEVENT
BEGIN:VEVENT
DTSTART;TZID=Europe/Helsinki:20260315T170000
DTEND;TZID=Europe/Helsinki:20260315T190000
DTSTAMP:20260421T054005
CREATED:20260224T071300Z
LAST-MODIFIED:20260224T071300Z
UID:6592-1773594000-1773601200@liesikappeli.fi
SUMMARY:Lingalan-\, ranskan- ja swahilinkielinen jumalanpalvelus klo 17.00
DESCRIPTION:Pastori Delphin Mulamba. Tilaisuudessa tarvittaessa tulkkaus suomeksi.
URL:https://liesikappeli.fi/kalenteri/lingalan-ranskan-ja-swahilinkielinen-jumalanpalvelus-klo-17-00-24/
CATEGORIES:Viikko2
END:VEVENT
BEGIN:VEVENT
DTSTART;TZID=Europe/Helsinki:20260316T173000
DTEND;TZID=Europe/Helsinki:20260316T183000
DTSTAMP:20260421T054005
CREATED:20260224T132617Z
LAST-MODIFIED:20260224T132617Z
UID:6602-1773682200-1773685800@liesikappeli.fi
SUMMARY:JIPPII -lapsikuoron harjoitukset klo 17.30 - 18.30
DESCRIPTION:
URL:https://liesikappeli.fi/kalenteri/jippii-lapsikuoron-harjoitukset-klo-17-30-18-30-10/
CATEGORIES:Viikko3
END:VEVENT
BEGIN:VEVENT
DTSTART;TZID=Europe/Helsinki:20260317T113000
DTEND;TZID=Europe/Helsinki:20260317T130000
DTSTAMP:20260421T054005
CREATED:20260224T132934Z
LAST-MODIFIED:20260224T132934Z
UID:6604-1773747000-1773752400@liesikappeli.fi
SUMMARY:Päivärukous klo 11.30
DESCRIPTION:Aloitamme rukoushetken lukemalla yhdessä Raamattua.
URL:https://liesikappeli.fi/kalenteri/paivarukous-klo-11-30-14/
CATEGORIES:Viikko3
END:VEVENT
BEGIN:VEVENT
DTSTART;TZID=Europe/Helsinki:20260317T180000
DTEND;TZID=Europe/Helsinki:20260317T193000
DTSTAMP:20260421T054005
CREATED:20260224T133211Z
LAST-MODIFIED:20260224T133211Z
UID:6606-1773770400-1773775800@liesikappeli.fi
SUMMARY:Rukouskokous klo 18.00
DESCRIPTION:Mukana Marja Turunen \n 
URL:https://liesikappeli.fi/kalenteri/rukouskokous-klo-18-00-21/
CATEGORIES:Viikko3
END:VEVENT
BEGIN:VEVENT
DTSTART;TZID=Europe/Helsinki:20260318T143000
DTEND;TZID=Europe/Helsinki:20260318T153000
DTSTAMP:20260421T054005
CREATED:20260224T133436Z
LAST-MODIFIED:20260224T133436Z
UID:6608-1773844200-1773847800@liesikappeli.fi
SUMMARY:Ruokajako klo 14.30 - 15.30
DESCRIPTION:
URL:https://liesikappeli.fi/kalenteri/ruokajako-klo-14-30-15-30-40/
CATEGORIES:Viikko3
END:VEVENT
BEGIN:VEVENT
DTSTART;TZID=Europe/Helsinki:20260319T120000
DTEND;TZID=Europe/Helsinki:20260319T140000
DTSTAMP:20260421T054005
CREATED:20260224T133741Z
LAST-MODIFIED:20260224T133741Z
UID:6610-1773921600-1773928800@liesikappeli.fi
SUMMARY:Ystäväpiiri klo 12.00
DESCRIPTION:
URL:https://liesikappeli.fi/kalenteri/ystavapiiri-klo-12-00-16/
CATEGORIES:Viikko3
END:VEVENT
END:VCALENDAR