BEGIN:VCALENDAR
VERSION:2.0
PRODID:-//Liesikappeli - ECPv6.15.20//NONSGML v1.0//EN
CALSCALE:GREGORIAN
METHOD:PUBLISH
X-ORIGINAL-URL:https://liesikappeli.fi
X-WR-CALDESC:Tapahtumat Liesikappeli
REFRESH-INTERVAL;VALUE=DURATION:PT1H
X-Robots-Tag:noindex
X-PUBLISHED-TTL:PT1H
BEGIN:VTIMEZONE
TZID:Europe/Helsinki
BEGIN:DAYLIGHT
TZOFFSETFROM:+0200
TZOFFSETTO:+0300
TZNAME:EEST
DTSTART:20250330T010000
END:DAYLIGHT
BEGIN:STANDARD
TZOFFSETFROM:+0300
TZOFFSETTO:+0200
TZNAME:EET
DTSTART:20251026T010000
END:STANDARD
BEGIN:DAYLIGHT
TZOFFSETFROM:+0200
TZOFFSETTO:+0300
TZNAME:EEST
DTSTART:20260329T010000
END:DAYLIGHT
BEGIN:STANDARD
TZOFFSETFROM:+0300
TZOFFSETTO:+0200
TZNAME:EET
DTSTART:20261025T010000
END:STANDARD
BEGIN:DAYLIGHT
TZOFFSETFROM:+0200
TZOFFSETTO:+0300
TZNAME:EEST
DTSTART:20270328T010000
END:DAYLIGHT
BEGIN:STANDARD
TZOFFSETFROM:+0300
TZOFFSETTO:+0200
TZNAME:EET
DTSTART:20271031T010000
END:STANDARD
END:VTIMEZONE
BEGIN:VEVENT
DTSTART;TZID=Europe/Helsinki:20260322T110000
DTEND;TZID=Europe/Helsinki:20260322T130000
DTSTAMP:20260421T045119
CREATED:20260224T205633Z
LAST-MODIFIED:20260224T205633Z
UID:6620-1774177200-1774184400@liesikappeli.fi
SUMMARY:Jumalanpalvelus klo 11.00
DESCRIPTION:Puhuu Esko Bollström\, musiikki Worship Team\, PYHÄKOULU.
URL:https://liesikappeli.fi/kalenteri/jumalanpalvelus-klo-11-00-20/
CATEGORIES:Viikko3
END:VEVENT
BEGIN:VEVENT
DTSTART;TZID=Europe/Helsinki:20260324T113000
DTEND;TZID=Europe/Helsinki:20260324T130000
DTSTAMP:20260421T045119
CREATED:20260224T065403Z
LAST-MODIFIED:20260224T210111Z
UID:6565-1774351800-1774357200@liesikappeli.fi
SUMMARY:Päivärukous klo 11.30
DESCRIPTION:Aloitamme rukoushetken lukemalla yhdessä Raamattua.
URL:https://liesikappeli.fi/kalenteri/paivarukous-klo-11-30-12/
CATEGORIES:Viikko4
END:VEVENT
BEGIN:VEVENT
DTSTART;TZID=Europe/Helsinki:20260324T180000
DTEND;TZID=Europe/Helsinki:20260324T193000
DTSTAMP:20260421T045119
CREATED:20260224T210948Z
LAST-MODIFIED:20260224T210948Z
UID:6622-1774375200-1774380600@liesikappeli.fi
SUMMARY:Rukouskokous klo 18.00
DESCRIPTION:Mukana Tony Valerius
URL:https://liesikappeli.fi/kalenteri/rukouskokous-klo-18-00-22/
CATEGORIES:Viikko4
END:VEVENT
BEGIN:VEVENT
DTSTART;TZID=Europe/Helsinki:20260325T143000
DTEND;TZID=Europe/Helsinki:20260325T153000
DTSTAMP:20260421T045119
CREATED:20260224T211119Z
LAST-MODIFIED:20260224T211119Z
UID:6624-1774449000-1774452600@liesikappeli.fi
SUMMARY:Ruokajako klo 14.30 - 15.30
DESCRIPTION:
URL:https://liesikappeli.fi/kalenteri/ruokajako-klo-14-30-15-30-41/
CATEGORIES:Viikko4
END:VEVENT
BEGIN:VEVENT
DTSTART;TZID=Europe/Helsinki:20260326T120000
DTEND;TZID=Europe/Helsinki:20260326T140000
DTSTAMP:20260421T045119
CREATED:20260224T211224Z
LAST-MODIFIED:20260224T211224Z
UID:6626-1774526400-1774533600@liesikappeli.fi
SUMMARY:Ystäväpiiri klo 12.00
DESCRIPTION:
URL:https://liesikappeli.fi/kalenteri/ystavapiiri-klo-12-00-17/
CATEGORIES:Viikko4
END:VEVENT
BEGIN:VEVENT
DTSTART;TZID=Europe/Helsinki:20260326T183000
DTEND;TZID=Europe/Helsinki:20260326T210000
DTSTAMP:20260421T045119
CREATED:20260224T211359Z
LAST-MODIFIED:20260224T211359Z
UID:6634-1774549800-1774558800@liesikappeli.fi
SUMMARY:Miestenilta klo 18.30
DESCRIPTION:
URL:https://liesikappeli.fi/kalenteri/miestenilta-klo-18-30-17/
CATEGORIES:Viikko4
END:VEVENT
BEGIN:VEVENT
DTSTART;TZID=Europe/Helsinki:20260327T170000
DTEND;TZID=Europe/Helsinki:20260327T190000
DTSTAMP:20260421T045119
CREATED:20260224T211804Z
LAST-MODIFIED:20260224T211804Z
UID:6636-1774630800-1774638000@liesikappeli.fi
SUMMARY:Kinyarwandan- ja swahilinkielinen rukousilta klo 17.00
DESCRIPTION:Tilaisuudessa tarvittaessa tulkkaus suomeksi.
URL:https://liesikappeli.fi/kalenteri/kinyarwandan-ja-swahilinkielinen-rukousilta-klo-17-00-21/
CATEGORIES:Viikko4
END:VEVENT
BEGIN:VEVENT
DTSTART;TZID=Europe/Helsinki:20260329T110000
DTEND;TZID=Europe/Helsinki:20260329T133000
DTSTAMP:20260421T045119
CREATED:20260224T212133Z
LAST-MODIFIED:20260224T212133Z
UID:6638-1774782000-1774791000@liesikappeli.fi
SUMMARY:Musiikkijumalanpalvelus klo 11.00
DESCRIPTION:Puhe ja musiikki Exodus-kvartetti\, johto Sami Nieminen\, PYHÄKOULU.
URL:https://liesikappeli.fi/kalenteri/musiikkijumalanpalvelus-klo-11-00-2/
CATEGORIES:Viikko4
END:VEVENT
BEGIN:VEVENT
DTSTART;TZID=Europe/Helsinki:20260329T140000
DTEND;TZID=Europe/Helsinki:20260329T160000
DTSTAMP:20260421T045120
CREATED:20260328T063558Z
LAST-MODIFIED:20260328T063558Z
UID:6685-1774792800-1774800000@liesikappeli.fi
SUMMARY:Kinyarwandan- ja swahilinkielinen jumalanpalvelus klo 14.00
DESCRIPTION:Yhteyshenkilö Esther Kahindo. Tilaisuudessa tarvittaessa tulkkaus suomeksi.
URL:https://liesikappeli.fi/kalenteri/kinyarwandan-ja-swahilinkielinen-jumalanpalvelus-klo-14-00-21/
CATEGORIES:Viikko5
END:VEVENT
BEGIN:VEVENT
DTSTART;TZID=Europe/Helsinki:20260329T170000
DTEND;TZID=Europe/Helsinki:20260329T190000
DTSTAMP:20260421T045120
CREATED:20260328T063859Z
LAST-MODIFIED:20260328T063859Z
UID:6687-1774803600-1774810800@liesikappeli.fi
SUMMARY:Lingalan-\, ranskan- ja swahilinkielinen jumalanpalvelus klo 17.00
DESCRIPTION:Pastori Delphin Mulamba. Tilaisuudessa tarvittaessa tulkkaus suomeksi.
URL:https://liesikappeli.fi/kalenteri/lingalan-ranskan-ja-swahilinkielinen-jumalanpalvelus-klo-17-00-25/
CATEGORIES:Viikko5
END:VEVENT
BEGIN:VEVENT
DTSTART;TZID=Europe/Helsinki:20260330T173000
DTEND;TZID=Europe/Helsinki:20260330T183000
DTSTAMP:20260421T045120
CREATED:20260226T185420Z
LAST-MODIFIED:20260226T185420Z
UID:6645-1774891800-1774895400@liesikappeli.fi
SUMMARY:JIPPII -lapsikuoron harjoitukset klo 17.30 - 18.30
DESCRIPTION:
URL:https://liesikappeli.fi/kalenteri/jippii-lapsikuoron-harjoitukset-klo-17-30-18-30-11/
CATEGORIES:Viikko5
END:VEVENT
BEGIN:VEVENT
DTSTART;TZID=Europe/Helsinki:20260331T113000
DTEND;TZID=Europe/Helsinki:20260331T130000
DTSTAMP:20260421T045120
CREATED:20260226T185529Z
LAST-MODIFIED:20260226T185529Z
UID:6647-1774956600-1774962000@liesikappeli.fi
SUMMARY:Päivärukous klo 11.30
DESCRIPTION:Aloitamme rukoushetken lukemalla yhdessä Raamattua.
URL:https://liesikappeli.fi/kalenteri/paivarukous-klo-11-30-15/
CATEGORIES:Viikko5
END:VEVENT
BEGIN:VEVENT
DTSTART;TZID=Europe/Helsinki:20260331T180000
DTEND;TZID=Europe/Helsinki:20260331T193000
DTSTAMP:20260421T045120
CREATED:20260226T185607Z
LAST-MODIFIED:20260329T203500Z
UID:6649-1774980000-1774985400@liesikappeli.fi
SUMMARY:Rukouskokous klo 18.00
DESCRIPTION:Tony Valerius
URL:https://liesikappeli.fi/kalenteri/rukouskokous-klo-18-00-23/
CATEGORIES:Viikko5
END:VEVENT
BEGIN:VEVENT
DTSTART;TZID=Europe/Helsinki:20260401T143000
DTEND;TZID=Europe/Helsinki:20260401T153000
DTSTAMP:20260421T045120
CREATED:20260226T185715Z
LAST-MODIFIED:20260330T062955Z
UID:6651-1775053800-1775057400@liesikappeli.fi
SUMMARY:Ruokajako klo 14.30 - 15.30
DESCRIPTION:Heti ruokajaon jälkeen on lyhyt hengellinen hetki\, jossa on mahdollisuus keskusteluun ja rukoukseen.
URL:https://liesikappeli.fi/kalenteri/ruokajako-klo-14-30-15-30-42/
CATEGORIES:Viikko5
END:VEVENT
BEGIN:VEVENT
DTSTART;TZID=Europe/Helsinki:20260401T180000
DTEND;TZID=Europe/Helsinki:20260414T190000
DTSTAMP:20260421T045120
CREATED:20250329T230401Z
LAST-MODIFIED:20260419T062221Z
UID:5152-1775066400-1776193200@liesikappeli.fi
SUMMARY:Myyrmäen helluntaiseurakunnan ja Länsi-Vantaan rukoushuoneyhdistys ry:n vuosikokoukset 14.4. klo 18:00
DESCRIPTION:Kokouskutsu: Seurakunnan kokous 14.4.\nKokouskutsu: Yhdistyksen vuosikokous 14.4.
URL:https://liesikappeli.fi/kalenteri/vuosikokous/
END:VEVENT
BEGIN:VEVENT
DTSTART;TZID=Europe/Helsinki:20260402T120000
DTEND;TZID=Europe/Helsinki:20260402T140000
DTSTAMP:20260421T045120
CREATED:20260226T185753Z
LAST-MODIFIED:20260226T185753Z
UID:6653-1775131200-1775138400@liesikappeli.fi
SUMMARY:Ystäväpiiri klo 12.00
DESCRIPTION:
URL:https://liesikappeli.fi/kalenteri/ystavapiiri-klo-12-00-18/
CATEGORIES:Viikko5
END:VEVENT
BEGIN:VEVENT
DTSTART;TZID=Europe/Helsinki:20260402T180000
DTEND;TZID=Europe/Helsinki:20260402T193000
DTSTAMP:20260421T045120
CREATED:20260328T062718Z
LAST-MODIFIED:20260401T172256Z
UID:6683-1775152800-1775158200@liesikappeli.fi
SUMMARY:Kiirastorstain rukouskokous ja ehtoollinen klo 18.00
DESCRIPTION:Esko Bollström
URL:https://liesikappeli.fi/kalenteri/kiirastorstain-rukouskokous-ja-ehtoollinen/
CATEGORIES:Viikko1
END:VEVENT
BEGIN:VEVENT
DTSTART;TZID=Europe/Helsinki:20260403T170000
DTEND;TZID=Europe/Helsinki:20260403T190000
DTSTAMP:20260421T045120
CREATED:20260226T190411Z
LAST-MODIFIED:20260226T190411Z
UID:6659-1775235600-1775242800@liesikappeli.fi
SUMMARY:Kinyarwandan- ja swahilinkielinen rukousilta klo 17.00
DESCRIPTION:Tilaisuudessa tarvittaessa tulkkaus suomeksi.
URL:https://liesikappeli.fi/kalenteri/kinyarwandan-ja-swahilinkielinen-rukousilta-klo-17-00-22/
CATEGORIES:Viikko5
END:VEVENT
BEGIN:VEVENT
DTSTART;TZID=Europe/Helsinki:20260405T110000
DTEND;TZID=Europe/Helsinki:20260405T133000
DTSTAMP:20260421T045120
CREATED:20260226T190459Z
LAST-MODIFIED:20260328T062047Z
UID:6661-1775386800-1775395800@liesikappeli.fi
SUMMARY:Jumalanpalvelus ja ehtoollinen klo 11.00
DESCRIPTION:Puhuu Tony Valerius\, johtaa Ville Tamminen\, musiikki Teresa Koivisto\, PYHÄKOULU.
URL:https://liesikappeli.fi/kalenteri/jumalanpalvelus-ja-ehtoollinen-klo-11-00-9/
CATEGORIES:Viikko5
END:VEVENT
BEGIN:VEVENT
DTSTART;TZID=Europe/Helsinki:20260405T140000
DTEND;TZID=Europe/Helsinki:20260405T160000
DTSTAMP:20260421T045120
CREATED:20260328T064203Z
LAST-MODIFIED:20260328T064203Z
UID:6689-1775397600-1775404800@liesikappeli.fi
SUMMARY:Kinyarwandan- ja swahilinkielinen jumalanpalvelus klo 14.00
DESCRIPTION:Yhteyshenkilö Esther Kahindo. Tilaisuudessa tarvittaessa tulkkaus suomeksi.
URL:https://liesikappeli.fi/kalenteri/kinyarwandan-ja-swahilinkielinen-jumalanpalvelus-klo-14-00-22/
CATEGORIES:Viikko1
END:VEVENT
BEGIN:VEVENT
DTSTART;TZID=Europe/Helsinki:20260405T170000
DTEND;TZID=Europe/Helsinki:20260405T190000
DTSTAMP:20260421T045120
CREATED:20260328T064442Z
LAST-MODIFIED:20260328T064442Z
UID:6691-1775408400-1775415600@liesikappeli.fi
SUMMARY:Lingalan-\, ranskan- ja swahilinkielinen jumalanpalvelus klo 17.00
DESCRIPTION:Pastori Delphin Mulamba. Tilaisuudessa tarvittaessa tulkkaus suomeksi.
URL:https://liesikappeli.fi/kalenteri/lingalan-ranskan-ja-swahilinkielinen-jumalanpalvelus-klo-17-00-26/
CATEGORIES:Viikko1
END:VEVENT
BEGIN:VEVENT
DTSTART;TZID=Europe/Helsinki:20260407T113000
DTEND;TZID=Europe/Helsinki:20260407T130000
DTSTAMP:20260421T045120
CREATED:20260328T065046Z
LAST-MODIFIED:20260328T065046Z
UID:6693-1775561400-1775566800@liesikappeli.fi
SUMMARY:Päivärukous klo 11.30
DESCRIPTION:Rukoushetken alussa luemme yhdessä Raamattua.
URL:https://liesikappeli.fi/kalenteri/paivarukous-klo-11-30-16/
CATEGORIES:Viikko2
END:VEVENT
BEGIN:VEVENT
DTSTART;TZID=Europe/Helsinki:20260407T180000
DTEND;TZID=Europe/Helsinki:20260407T193000
DTSTAMP:20260421T045120
CREATED:20260328T065211Z
LAST-MODIFIED:20260328T065211Z
UID:6695-1775584800-1775590200@liesikappeli.fi
SUMMARY:Rukouskokous klo 18.00
DESCRIPTION:Tony Valerius
URL:https://liesikappeli.fi/kalenteri/rukouskokous-klo-18-00-24/
CATEGORIES:Viikko2
END:VEVENT
BEGIN:VEVENT
DTSTART;TZID=Europe/Helsinki:20260408T143000
DTEND;TZID=Europe/Helsinki:20260408T153000
DTSTAMP:20260421T045120
CREATED:20260328T065624Z
LAST-MODIFIED:20260330T062825Z
UID:6697-1775658600-1775662200@liesikappeli.fi
SUMMARY:Ruokajako klo 14.30 - 15.30
DESCRIPTION:Heti ruokajaon jälkeen on lyhyt hengellinen hetki\, jossa on mahdollisuus keskusteluun ja rukoukseen.
URL:https://liesikappeli.fi/kalenteri/ruokajako-klo-14-30-15-30-43/
CATEGORIES:Viikko2
END:VEVENT
BEGIN:VEVENT
DTSTART;TZID=Europe/Helsinki:20260409T120000
DTEND;TZID=Europe/Helsinki:20260409T140000
DTSTAMP:20260421T045120
CREATED:20260328T065721Z
LAST-MODIFIED:20260328T065721Z
UID:6699-1775736000-1775743200@liesikappeli.fi
SUMMARY:Ystäväpiiri klo 12.00
DESCRIPTION:
URL:https://liesikappeli.fi/kalenteri/ystavapiiri-klo-12-00-19/
CATEGORIES:Viikko2
END:VEVENT
BEGIN:VEVENT
DTSTART;TZID=Europe/Helsinki:20260409T180000
DTEND;TZID=Europe/Helsinki:20260414T190000
DTSTAMP:20260421T045120
CREATED:20260329T202039Z
LAST-MODIFIED:20260411T143340Z
UID:6718-1775757600-1776193200@liesikappeli.fi
SUMMARY:Rukouskokous tiistaina 14.4. alkaa yhdistysten vuosikokouksen jälkeen klo 19.00
DESCRIPTION:
URL:https://liesikappeli.fi/kalenteri/rukouskokous-2/
CATEGORIES:Viikko3
END:VEVENT
BEGIN:VEVENT
DTSTART;TZID=Europe/Helsinki:20260409T183000
DTEND;TZID=Europe/Helsinki:20260409T210000
DTSTAMP:20260421T045120
CREATED:20260328T065822Z
LAST-MODIFIED:20260328T065822Z
UID:6701-1775759400-1775768400@liesikappeli.fi
SUMMARY:Miestenilta klo 18.30
DESCRIPTION:
URL:https://liesikappeli.fi/kalenteri/miestenilta-klo-18-30-18/
CATEGORIES:Viikko2
END:VEVENT
BEGIN:VEVENT
DTSTART;TZID=Europe/Helsinki:20260410T170000
DTEND;TZID=Europe/Helsinki:20260410T200000
DTSTAMP:20260421T045120
CREATED:20260328T070140Z
LAST-MODIFIED:20260328T070140Z
UID:6703-1775840400-1775851200@liesikappeli.fi
SUMMARY:Kinyarwandan- ja swahilinkielinen rukousilta klo 17.00
DESCRIPTION:Tilaisuudessa tarvittaessa tulkkaus suomeksi.
URL:https://liesikappeli.fi/kalenteri/kinyarwandan-ja-swahilinkielinen-rukousilta-klo-17-00-23/
CATEGORIES:Viikko2
END:VEVENT
BEGIN:VEVENT
DTSTART;TZID=Europe/Helsinki:20260412T110000
DTEND;TZID=Europe/Helsinki:20260412T130000
DTSTAMP:20260421T045120
CREATED:20260328T070551Z
LAST-MODIFIED:20260329T073401Z
UID:6705-1775991600-1775998800@liesikappeli.fi
SUMMARY:Jumalanpalvelus klo 11.00
DESCRIPTION:Puhuu Ulla Aamuharju\, johtaaLeif Schwartz\, musiikki Pipsa Kotilainen & co.\, PYHÄKOULU.
URL:https://liesikappeli.fi/kalenteri/jumalanpalvelus-klo-11-00-21/
CATEGORIES:Viikko2
END:VEVENT
BEGIN:VEVENT
DTSTART;TZID=Europe/Helsinki:20260412T140000
DTEND;TZID=Europe/Helsinki:20260412T160000
DTSTAMP:20260421T045120
CREATED:20260328T070737Z
LAST-MODIFIED:20260328T070737Z
UID:6707-1776002400-1776009600@liesikappeli.fi
SUMMARY:Kinyarwandan- ja swahilinkielinen jumalanpalvelus klo 14.00
DESCRIPTION:Yhteyshenkilö Esther Kahindo. Tilaisuudessa tarvittaessa tulkkaus suomeksi.
URL:https://liesikappeli.fi/kalenteri/kinyarwandan-ja-swahilinkielinen-jumalanpalvelus-klo-14-00-23/
CATEGORIES:Viikko2
END:VEVENT
END:VCALENDAR