BEGIN:VCALENDAR
VERSION:2.0
PRODID:-//Liesikappeli - ECPv6.15.20//NONSGML v1.0//EN
CALSCALE:GREGORIAN
METHOD:PUBLISH
X-ORIGINAL-URL:https://liesikappeli.fi
X-WR-CALDESC:Tapahtumat Liesikappeli
REFRESH-INTERVAL;VALUE=DURATION:PT1H
X-Robots-Tag:noindex
X-PUBLISHED-TTL:PT1H
BEGIN:VTIMEZONE
TZID:Europe/Helsinki
BEGIN:DAYLIGHT
TZOFFSETFROM:+0200
TZOFFSETTO:+0300
TZNAME:EEST
DTSTART:20250330T010000
END:DAYLIGHT
BEGIN:STANDARD
TZOFFSETFROM:+0300
TZOFFSETTO:+0200
TZNAME:EET
DTSTART:20251026T010000
END:STANDARD
BEGIN:DAYLIGHT
TZOFFSETFROM:+0200
TZOFFSETTO:+0300
TZNAME:EEST
DTSTART:20260329T010000
END:DAYLIGHT
BEGIN:STANDARD
TZOFFSETFROM:+0300
TZOFFSETTO:+0200
TZNAME:EET
DTSTART:20261025T010000
END:STANDARD
BEGIN:DAYLIGHT
TZOFFSETFROM:+0200
TZOFFSETTO:+0300
TZNAME:EEST
DTSTART:20270328T010000
END:DAYLIGHT
BEGIN:STANDARD
TZOFFSETFROM:+0300
TZOFFSETTO:+0200
TZNAME:EET
DTSTART:20271031T010000
END:STANDARD
END:VTIMEZONE
BEGIN:VEVENT
DTSTART;TZID=Europe/Helsinki:20260430T120000
DTEND;TZID=Europe/Helsinki:20260430T140000
DTSTAMP:20260420T232339
CREATED:20260331T055452Z
LAST-MODIFIED:20260331T055452Z
UID:6798-1777550400-1777557600@liesikappeli.fi
SUMMARY:Ystäväpiiri klo 12.00
DESCRIPTION:
URL:https://liesikappeli.fi/kalenteri/ystavapiiri-klo-12-00-22/
CATEGORIES:Viikko5
END:VEVENT
BEGIN:VEVENT
DTSTART;TZID=Europe/Helsinki:20260430T180000
DTEND;TZID=Europe/Helsinki:20260430T193000
DTSTAMP:20260420T232339
CREATED:20260331T055534Z
LAST-MODIFIED:20260331T055534Z
UID:6800-1777572000-1777577400@liesikappeli.fi
SUMMARY:Naistenilta klo 18.00
DESCRIPTION:
URL:https://liesikappeli.fi/kalenteri/naistenilta-klo-18-00-11/
CATEGORIES:Viikko5
END:VEVENT
BEGIN:VEVENT
DTSTART;TZID=Europe/Helsinki:20260430T183000
DTEND;TZID=Europe/Helsinki:20260430T210000
DTSTAMP:20260420T232339
CREATED:20260331T055619Z
LAST-MODIFIED:20260331T055619Z
UID:6804-1777573800-1777582800@liesikappeli.fi
SUMMARY:Miestenilta klo 18.30
DESCRIPTION:
URL:https://liesikappeli.fi/kalenteri/miestenilta-klo-18-30-21/
CATEGORIES:Viikko5
END:VEVENT
END:VCALENDAR